BEGIN:VCALENDAR
VERSION:2.0
PRODID:-//מרכז חדרים בריאלי, בית לתרבות יהודית ישראלית - ECPv6.15.20//NONSGML v1.0//EN
CALSCALE:GREGORIAN
METHOD:PUBLISH
X-ORIGINAL-URL:https://hadarim.reali.org.il
X-WR-CALDESC:Events for מרכז חדרים בריאלי, בית לתרבות יהודית ישראלית
REFRESH-INTERVAL;VALUE=DURATION:PT1H
X-Robots-Tag:noindex
X-PUBLISHED-TTL:PT1H
BEGIN:VTIMEZONE
TZID:UTC
BEGIN:STANDARD
TZOFFSETFROM:+0000
TZOFFSETTO:+0000
TZNAME:UTC
DTSTART:20220101T000000
END:STANDARD
END:VTIMEZONE
BEGIN:VEVENT
DTSTART;VALUE=DATE:20230802
DTEND;VALUE=DATE:20230803
DTSTAMP:20260419T213147
CREATED:20230709T075225Z
LAST-MODIFIED:20230709T075225Z
UID:10000985-1690934400-1691020799@hadarim.reali.org.il
SUMMARY:טו באב
DESCRIPTION:
URL:https://hadarim.reali.org.il/event/%d7%a4%d7%a8%d7%a9%d7%aa-%d7%90%d7%9e%d7%95%d7%a8-2-2-2-2-2-2-2-2-2-2-2-2-2-2-2-2-2-2-2-2-2/
CATEGORIES:תוכניות מיוחדות
END:VEVENT
BEGIN:VEVENT
DTSTART;VALUE=DATE:20230805
DTEND;VALUE=DATE:20230806
DTSTAMP:20260419T213147
CREATED:20230709T075126Z
LAST-MODIFIED:20230709T075126Z
UID:10000984-1691193600-1691279999@hadarim.reali.org.il
SUMMARY:פרשת עקב
DESCRIPTION:
URL:https://hadarim.reali.org.il/event/%d7%a4%d7%a8%d7%a9%d7%aa-%d7%90%d7%9e%d7%95%d7%a8-2-2-2-2-2-2-2-2-2-2-2-2-2-2-2-2-2-2-2-3-2/
CATEGORIES:תוכניות מיוחדות
END:VEVENT
BEGIN:VEVENT
DTSTART;TZID=UTC:20230809T203000
DTEND;TZID=UTC:20230809T203000
DTSTAMP:20260419T213147
CREATED:20230727T115650Z
LAST-MODIFIED:20230727T115650Z
UID:10001001-1691613000-1691613000@hadarim.reali.org.il
SUMMARY:דה ג'אז רום - The Flavors
DESCRIPTION:
URL:https://hadarim.reali.org.il/event/%d7%93%d7%94-%d7%92%d7%90%d7%96-%d7%a8%d7%95%d7%9d-the-flavors/
CATEGORIES:דה ג'אז רום
END:VEVENT
BEGIN:VEVENT
DTSTART;VALUE=DATE:20230812
DTEND;VALUE=DATE:20230813
DTSTAMP:20260419T213147
CREATED:20230709T075041Z
LAST-MODIFIED:20230709T075041Z
UID:10000983-1691798400-1691884799@hadarim.reali.org.il
SUMMARY:פרשת ראה
DESCRIPTION:
URL:https://hadarim.reali.org.il/event/%d7%a4%d7%a8%d7%a9%d7%aa-%d7%90%d7%9e%d7%95%d7%a8-2-2-2-2-2-2-2-2-2-2-2-2-2-2-2-2-2-2-2-3/
CATEGORIES:תוכניות מיוחדות
END:VEVENT
BEGIN:VEVENT
DTSTART;VALUE=DATE:20230819
DTEND;VALUE=DATE:20230820
DTSTAMP:20260419T213147
CREATED:20230709T075303Z
LAST-MODIFIED:20230709T075303Z
UID:10000986-1692403200-1692489599@hadarim.reali.org.il
SUMMARY:פרשת שופטים
DESCRIPTION:
URL:https://hadarim.reali.org.il/event/%d7%a4%d7%a8%d7%a9%d7%aa-%d7%90%d7%9e%d7%95%d7%a8-2-2-2-2-2-2-2-2-2-2-2-2-2-2-2-2-2-2-2-4/
CATEGORIES:תוכניות מיוחדות
END:VEVENT
BEGIN:VEVENT
DTSTART;VALUE=DATE:20230826
DTEND;VALUE=DATE:20230827
DTSTAMP:20260419T213147
CREATED:20230709T075332Z
LAST-MODIFIED:20230709T075332Z
UID:10000987-1693008000-1693094399@hadarim.reali.org.il
SUMMARY:פרשת כי תצא
DESCRIPTION:
URL:https://hadarim.reali.org.il/event/%d7%a4%d7%a8%d7%a9%d7%aa-%d7%90%d7%9e%d7%95%d7%a8-2-2-2-2-2-2-2-2-2-2-2-2-2-2-2-2-2-2-2-4-2/
CATEGORIES:תוכניות מיוחדות
END:VEVENT
BEGIN:VEVENT
DTSTART;TZID=UTC:20230827T170000
DTEND;TZID=UTC:20230827T170000
DTSTAMP:20260419T213147
CREATED:20230626T090514Z
LAST-MODIFIED:20230702T090007Z
UID:10000972-1693155600-1693155600@hadarim.reali.org.il
SUMMARY:פינוקיו – תיאטרון השעה
DESCRIPTION:ג'פטו הוא נגר טוב לב המכין צעצועים מיוחדים לילדים.  \nיום אחד הוא מוצא בול עץ המזכיר בקווי המתאר ילד קטן. הוא מגלף את העץ\, מכין בובה וקורא לה בשם "פינוקיו". \nג'פטו\, שכה רוצה להיות אבא מביע משאלה ותקווה שפינוקיו יהפוך להיות ילד אמיתי.  \nבלילה\, כשכולם ישנים\, מחליטה הפיה הכחולה להיענות למשאלתו של ג'פטו ומעניקה לפינוקיו חיים אם יבחר ללכת בדרך הישר. \nמפה מתחיל מסעו של פינוקיו בליווי צופי ההצגה הצעירים המסייעים לפינוקיו להבחין בין טוב לרע. \nהמחזה הוא עיבוד מקורי לסיפור הקלאסי הנודע.
URL:https://hadarim.reali.org.il/event/%d7%a4%d7%99%d7%a0%d7%95%d7%a7%d7%99%d7%95/
CATEGORIES:הצגות קיץ לילדים
END:VEVENT
BEGIN:VEVENT
DTSTART;TZID=UTC:20230828T170000
DTEND;TZID=UTC:20230828T170000
DTSTAMP:20260419T213147
CREATED:20230626T091649Z
LAST-MODIFIED:20230702T085749Z
UID:10000973-1693242000-1693242000@hadarim.reali.org.il
SUMMARY:דון קישוט – תיאטרון המדיקט
DESCRIPTION:האביר האמיץ דון-קישוט חולם להיות הגיבור הגדול והמפורסם ביותר בעולם. הוא מחליט לצאת להרפתקת חייו:\nלמצוא את הענק הנורא שמטיל אימה על ספרד\, להביס אותו ולזכות בתהילת עולם.\nלמסע של קישוט מצטרף גם חברו הנאמן\, סנצ'ו פנשו. השניים צולחים יחד מסע רווי מכשולים הודות לחברות אמיצה ושיתוף פעולה.\nאבל כשהם מגיעים סוף סוף אל הענק הנורא מתגלה האמת: מדובר בסך הכל ב… טחנת רוח.\nדון-קישוט לא מודה באמת\, הוא משוכנע שטחנת הרוח הפשוטה היא הענק הנורא ומתכונן לקרב. החברות של השניים תעמוד עכשיו למבחן:\nהאם סנצ'ו פנשו יהיה אמיץ מספיק כדי לומר לדון-קישוט את האמת ולמנוע את הקרב המיותר?\nדון-קישוט יגלה לבסוף באמצעות חברו\, שיש דרכים רבות להיות גיבור ושהפרסום והתהילה שלהם הוא מייחל אינם חשובים כמו חברות אמת. \n \nמחזה: איתן מושקובסקי | בימוי: גומא פריד | מוסיקה: ליאור רונן | עיצוב תנועה: טל קון\nעיצוב תפאורה ותלבושות: שני טור | הדרכת שפה ודיבור: מרגלית גז | ע במאי: טלי אגרונוב\nשחקנים: אדי אלתרמן / גולן גרוס\, ליעם פינטו / יוסף קדוש
URL:https://hadarim.reali.org.il/event/%d7%a4%d7%99%d7%a0%d7%95%d7%a7%d7%99%d7%95-2/
CATEGORIES:הצגות קיץ לילדים
END:VEVENT
BEGIN:VEVENT
DTSTART;TZID=UTC:20230829T170000
DTEND;TZID=UTC:20230829T170000
DTSTAMP:20260419T213147
CREATED:20230628T131451Z
LAST-MODIFIED:20230702T085520Z
UID:10000975-1693328400-1693328400@hadarim.reali.org.il
SUMMARY:האיש והתיבה – תיאטרון חפצים
DESCRIPTION:בתוך תיבה פלאית חי אדם בודד. התיבה משמשת לו בית והוא משמש לה לב פועם.העתקה לטיוטה חדשה  \nכל בוקר מתחיל בשרשרת פעולות שימושיות שבסופה ממתינה לו כוס תה. \nאבל בבוקר הזה משהו השתבש\, והתיבה פותחת לאיש פתח סודי אל עולם של דמיון\, קצב ואהבה. \nמבוסס על יצירתו של צ'רלי צ'פלין. \nתיאטרון חפצים עם אנימציה חיה\, ללא מילים. \n  \n \n 
URL:https://hadarim.reali.org.il/event/%d7%a4%d7%99%d7%a0%d7%95%d7%a7%d7%99%d7%95-3-2/
CATEGORIES:הצגות קיץ לילדים
END:VEVENT
BEGIN:VEVENT
DTSTART;TZID=UTC:20230830T170000
DTEND;TZID=UTC:20230830T170000
DTSTAMP:20260419T213147
CREATED:20230628T134709Z
LAST-MODIFIED:20230702T085434Z
UID:10000977-1693414800-1693414800@hadarim.reali.org.il
SUMMARY:חברים על הגשר – תיאטרון אורנה פורת
DESCRIPTION:זהו סיפור על שני חברים הכי טובים בעולם. במשך היום הם עוזרים זה לזה בעבודה\, ובערב שותים יחד כוס תה בחצר וצוחקים.\nיום אחד מתפתח ויכוח מאוד גדול בגלל דבר מאוד קטן\, ושני החברים רבים ריב נוראי שבעקבותיו הם לא רוצים לדבר או אפילו לראות זה את זה לעולם.\nבדיוק אז מגיע לכפר נגר חביב וחכם ובזכותו הם לומדים בדרך מפתיעה שחברות היא הדבר הכי חשוב ולא שווה להרוס אותה בעד שום סיבה\, גדולה או קטנה.
URL:https://hadarim.reali.org.il/event/%d7%a4%d7%99%d7%a0%d7%95%d7%a7%d7%99%d7%95-3/
CATEGORIES:הצגות קיץ לילדים
END:VEVENT
BEGIN:VEVENT
DTSTART;TZID=UTC:20230831T180000
DTEND;TZID=UTC:20230831T180000
DTSTAMP:20260419T213147
CREATED:20230817T090010Z
LAST-MODIFIED:20230817T090010Z
UID:10001003-1693504800-1693504800@hadarim.reali.org.il
SUMMARY:רעש גדול במועדון קריאה חדרים
DESCRIPTION:
URL:https://hadarim.reali.org.il/event/%d7%a8%d7%a2%d7%a9-%d7%92%d7%93%d7%95%d7%9c-%d7%91%d7%9e%d7%95%d7%a2%d7%93%d7%95%d7%9f-%d7%a7%d7%a8%d7%99%d7%90%d7%94-%d7%97%d7%93%d7%a8%d7%99%d7%9d/
CATEGORIES:מועדון קריאה
END:VEVENT
END:VCALENDAR