BEGIN:VCALENDAR
VERSION:2.0
PRODID:-//מרכז חדרים בריאלי, בית לתרבות יהודית ישראלית - ECPv6.15.20//NONSGML v1.0//EN
CALSCALE:GREGORIAN
METHOD:PUBLISH
X-ORIGINAL-URL:https://hadarim.reali.org.il
X-WR-CALDESC:Events for מרכז חדרים בריאלי, בית לתרבות יהודית ישראלית
REFRESH-INTERVAL;VALUE=DURATION:PT1H
X-Robots-Tag:noindex
X-PUBLISHED-TTL:PT1H
BEGIN:VTIMEZONE
TZID:UTC
BEGIN:STANDARD
TZOFFSETFROM:+0000
TZOFFSETTO:+0000
TZNAME:UTC
DTSTART:20220101T000000
END:STANDARD
END:VTIMEZONE
BEGIN:VTIMEZONE
TZID:Europe/Helsinki
BEGIN:DAYLIGHT
TZOFFSETFROM:+0200
TZOFFSETTO:+0300
TZNAME:EEST
DTSTART:20220327T010000
END:DAYLIGHT
BEGIN:STANDARD
TZOFFSETFROM:+0300
TZOFFSETTO:+0200
TZNAME:EET
DTSTART:20221030T010000
END:STANDARD
BEGIN:DAYLIGHT
TZOFFSETFROM:+0200
TZOFFSETTO:+0300
TZNAME:EEST
DTSTART:20230326T010000
END:DAYLIGHT
BEGIN:STANDARD
TZOFFSETFROM:+0300
TZOFFSETTO:+0200
TZNAME:EET
DTSTART:20231029T010000
END:STANDARD
BEGIN:DAYLIGHT
TZOFFSETFROM:+0200
TZOFFSETTO:+0300
TZNAME:EEST
DTSTART:20240331T010000
END:DAYLIGHT
BEGIN:STANDARD
TZOFFSETFROM:+0300
TZOFFSETTO:+0200
TZNAME:EET
DTSTART:20241027T010000
END:STANDARD
END:VTIMEZONE
BEGIN:VEVENT
DTSTART;TZID=UTC:20230202T203000
DTEND;TZID=UTC:20230202T203000
DTSTAMP:20260420T060152
CREATED:20230118T092441Z
LAST-MODIFIED:20230119T081710Z
UID:10000887-1675369800-1675369800@hadarim.reali.org.il
SUMMARY:מועדון זמר - מחווה ליוסי גמזו
DESCRIPTION:
URL:https://hadarim.reali.org.il/event/%d7%9e%d7%95%d7%a2%d7%93%d7%95%d7%9f-%d7%96%d7%9e%d7%a8/
CATEGORIES:מועדון זמר
END:VEVENT
BEGIN:VEVENT
DTSTART;VALUE=DATE:20230204
DTEND;VALUE=DATE:20230205
DTSTAMP:20260420T060152
CREATED:20230101T083254Z
LAST-MODIFIED:20230101T083254Z
UID:10000850-1675468800-1675555199@hadarim.reali.org.il
SUMMARY:פרשת בשלח
DESCRIPTION:
URL:https://hadarim.reali.org.il/event/%d7%a4%d7%a8%d7%a9%d7%aa-%d7%aa%d7%a6%d7%95%d7%94-%d7%a9%d7%91%d7%aa-%d7%96%d7%9b%d7%95%d7%a8-2-2-2-2-5-2-6-5-5-2-2-2-2-2-2-2-2-2-2-2-2-2-2-3-4-2-2-3-2-2-2-2-2-2-2-2-2-2-2-2-2-2-2-2-2-2-2-2-2-2-2-1-32/
CATEGORIES:תוכניות מיוחדות
END:VEVENT
BEGIN:VEVENT
DTSTART;VALUE=DATE:20230206
DTEND;VALUE=DATE:20230207
DTSTAMP:20260420T060152
CREATED:20230118T085025Z
LAST-MODIFIED:20230118T085025Z
UID:10000854-1675641600-1675727999@hadarim.reali.org.il
SUMMARY:ט"ו בשבט
DESCRIPTION:
URL:https://hadarim.reali.org.il/event/%d7%a4%d7%a8%d7%a9%d7%aa-%d7%aa%d7%a6%d7%95%d7%94-%d7%a9%d7%91%d7%aa-%d7%96%d7%9b%d7%95%d7%a8-2-2-2-2-5-2-6-5-5-2-2-2-2-2-2-2-2-2-2-2-2-2-2-3-4-2-2-3-2-2-2-2-2-2-2-2-2-2-2-2-2-2-2-2-2-2-2-2-2-2-2-1-33/
CATEGORIES:תוכניות מיוחדות
END:VEVENT
BEGIN:VEVENT
DTSTART;TZID=UTC:20230206T203000
DTEND;TZID=UTC:20230206T203000
DTSTAMP:20260420T060152
CREATED:20230124T081401Z
LAST-MODIFIED:20230206T104526Z
UID:10000891-1675715400-1675715400@hadarim.reali.org.il
SUMMARY:שירת האילנות - נדחה
DESCRIPTION:האירוע נדחה מפאת מזג האוויר.\n הודעה על תאריך חדש תגיע בהמשך!
URL:https://hadarim.reali.org.il/event/%d7%a9%d7%99%d7%a8%d7%aa-%d7%94%d7%90%d7%99%d7%9c%d7%a0%d7%95%d7%aa/
CATEGORIES:מופעים
END:VEVENT
BEGIN:VEVENT
DTSTART;TZID=UTC:20230208T203000
DTEND;TZID=UTC:20230208T203000
DTSTAMP:20260420T060152
CREATED:20230123T191522Z
LAST-MODIFIED:20230123T191522Z
UID:10000889-1675888200-1675888200@hadarim.reali.org.il
SUMMARY:דה ג'אז רום - הודנא אורקסטרא
DESCRIPTION:
URL:https://hadarim.reali.org.il/event/%d7%93%d7%94-%d7%92%d7%90%d7%96-%d7%a8%d7%95%d7%9d-%d7%94%d7%99%d7%9c%d7%94-%d7%a7%d7%95%d7%9c%d7%99%d7%a7-2-2-2-2/
CATEGORIES:דה ג'אז רום
END:VEVENT
BEGIN:VEVENT
DTSTART;VALUE=DATE:20230211
DTEND;VALUE=DATE:20230212
DTSTAMP:20260420T060152
CREATED:20230118T085153Z
LAST-MODIFIED:20230118T085153Z
UID:10000856-1676073600-1676159999@hadarim.reali.org.il
SUMMARY:פרשת יתרו
DESCRIPTION:
URL:https://hadarim.reali.org.il/event/%d7%a4%d7%a8%d7%a9%d7%aa-%d7%aa%d7%a6%d7%95%d7%94-%d7%a9%d7%91%d7%aa-%d7%96%d7%9b%d7%95%d7%a8-2-2-2-2-5-2-6-5-5-2-2-2-2-2-2-2-2-2-2-2-2-2-2-3-4-2-2-3-2-2-2-2-2-2-2-2-2-2-2-2-2-2-2-2-2-2-2-2-2-2-2-1-34/
CATEGORIES:תוכניות מיוחדות
END:VEVENT
BEGIN:VEVENT
DTSTART;TZID=UTC:20230216T210000
DTEND;TZID=UTC:20230216T210000
DTSTAMP:20260420T060152
CREATED:20230124T111620Z
LAST-MODIFIED:20230124T111620Z
UID:10000893-1676581200-1676581200@hadarim.reali.org.il
SUMMARY:במה עברית - מיכה שטרית
DESCRIPTION:
URL:https://hadarim.reali.org.il/event/%d7%91%d7%9e%d7%94-%d7%a2%d7%91%d7%a8%d7%99%d7%aa-%d7%9e%d7%99%d7%9b%d7%94-%d7%a9%d7%98%d7%a8%d7%99%d7%aa/
CATEGORIES:במה עברית
END:VEVENT
BEGIN:VEVENT
DTSTART;VALUE=DATE:20230218
DTEND;VALUE=DATE:20230219
DTSTAMP:20260420T060152
CREATED:20230118T085248Z
LAST-MODIFIED:20230118T085248Z
UID:10000857-1676678400-1676764799@hadarim.reali.org.il
SUMMARY:פרשת משפטים
DESCRIPTION:
URL:https://hadarim.reali.org.il/event/%d7%a4%d7%a8%d7%a9%d7%aa-%d7%aa%d7%a6%d7%95%d7%94-%d7%a9%d7%91%d7%aa-%d7%96%d7%9b%d7%95%d7%a8-2-2-2-2-5-2-6-5-5-2-2-2-2-2-2-2-2-2-2-2-2-2-2-3-4-2-2-3-2-2-2-2-2-2-2-2-2-2-2-2-2-2-2-2-2-2-2-2-2-2-2-1-35/
CATEGORIES:תוכניות מיוחדות
END:VEVENT
BEGIN:VEVENT
DTSTART;TZID=UTC:20230223T193000
DTEND;TZID=UTC:20230223T193000
DTSTAMP:20260420T060152
CREATED:20230125T085730Z
LAST-MODIFIED:20230216T085532Z
UID:10000898-1677180600-1677180600@hadarim.reali.org.il
SUMMARY:קהילות וזרמים: חילוניות מאמינות
DESCRIPTION:
URL:https://hadarim.reali.org.il/event/%d7%a7%d7%94%d7%99%d7%9c%d7%95%d7%aa-%d7%95%d7%96%d7%a8%d7%9e%d7%99%d7%9d-2-2-2/
CATEGORIES:הרצאות
END:VEVENT
BEGIN:VEVENT
DTSTART;TZID=UTC:20230223T203000
DTEND;TZID=UTC:20230223T203000
DTSTAMP:20260420T060152
CREATED:20230125T085003Z
LAST-MODIFIED:20230125T085003Z
UID:10000895-1677184200-1677184200@hadarim.reali.org.il
SUMMARY:על הכרמל האי נראה
DESCRIPTION:שירה עברית עכשווית \nבהשתתפות: אבישי חורי\, רואי רביצקי\, אסתר וולק\, עידו אנג'ל\, חיה לוי ונעמי חשמונאי\nהופעה: דניאלה ספקטור
URL:https://hadarim.reali.org.il/event/%d7%a2%d7%9c-%d7%94%d7%9b%d7%a8%d7%9e%d7%9c-%d7%94%d7%90%d7%99-%d7%a0%d7%a8%d7%90%d7%94/
CATEGORIES:מופעים
END:VEVENT
BEGIN:VEVENT
DTSTART;VALUE=DATE:20230225
DTEND;VALUE=DATE:20230226
DTSTAMP:20260420T060152
CREATED:20230118T085339Z
LAST-MODIFIED:20230118T085339Z
UID:10000858-1677283200-1677369599@hadarim.reali.org.il
SUMMARY:פרשת תרומה
DESCRIPTION:
URL:https://hadarim.reali.org.il/event/%d7%a4%d7%a8%d7%a9%d7%aa-%d7%aa%d7%a6%d7%95%d7%94-%d7%a9%d7%91%d7%aa-%d7%96%d7%9b%d7%95%d7%a8-2-2-2-2-5-2-6-5-5-2-2-2-2-2-2-2-2-2-2-2-2-2-2-3-4-2-2-3-2-2-2-2-2-2-2-2-2-2-2-2-2-2-2-2-2-2-2-2-2-2-2-1-36/
CATEGORIES:תוכניות מיוחדות
END:VEVENT
END:VCALENDAR