BEGIN:VCALENDAR
VERSION:2.0
PRODID:-//מרכז חדרים בריאלי, בית לתרבות יהודית ישראלית - ECPv6.15.20//NONSGML v1.0//EN
CALSCALE:GREGORIAN
METHOD:PUBLISH
X-WR-CALNAME:מרכז חדרים בריאלי, בית לתרבות יהודית ישראלית
X-ORIGINAL-URL:https://hadarim.reali.org.il
X-WR-CALDESC:Events for מרכז חדרים בריאלי, בית לתרבות יהודית ישראלית
REFRESH-INTERVAL;VALUE=DURATION:PT1H
X-Robots-Tag:noindex
X-PUBLISHED-TTL:PT1H
BEGIN:VTIMEZONE
TZID:Europe/Helsinki
BEGIN:DAYLIGHT
TZOFFSETFROM:+0200
TZOFFSETTO:+0300
TZNAME:EEST
DTSTART:20210328T010000
END:DAYLIGHT
BEGIN:STANDARD
TZOFFSETFROM:+0300
TZOFFSETTO:+0200
TZNAME:EET
DTSTART:20211031T010000
END:STANDARD
BEGIN:DAYLIGHT
TZOFFSETFROM:+0200
TZOFFSETTO:+0300
TZNAME:EEST
DTSTART:20220327T010000
END:DAYLIGHT
BEGIN:STANDARD
TZOFFSETFROM:+0300
TZOFFSETTO:+0200
TZNAME:EET
DTSTART:20221030T010000
END:STANDARD
BEGIN:DAYLIGHT
TZOFFSETFROM:+0200
TZOFFSETTO:+0300
TZNAME:EEST
DTSTART:20230326T010000
END:DAYLIGHT
BEGIN:STANDARD
TZOFFSETFROM:+0300
TZOFFSETTO:+0200
TZNAME:EET
DTSTART:20231029T010000
END:STANDARD
END:VTIMEZONE
BEGIN:VEVENT
DTSTART;VALUE=DATE:20220422
DTEND;VALUE=DATE:20220423
DTSTAMP:20260420T020802
CREATED:20220227T101645Z
LAST-MODIFIED:20220227T101645Z
UID:10000658-1650585600-1650671999@hadarim.reali.org.il
SUMMARY:שביעי של פסח
DESCRIPTION:
URL:https://hadarim.reali.org.il/event/%d7%90-%d7%97%d7%95%d7%94%d7%9e-2-2-2-2-2/
CATEGORIES:תוכניות מיוחדות
END:VEVENT
BEGIN:VEVENT
DTSTART;VALUE=DATE:20220421
DTEND;VALUE=DATE:20220422
DTSTAMP:20260420T020802
CREATED:20220227T101611Z
LAST-MODIFIED:20220227T101611Z
UID:10000657-1650499200-1650585599@hadarim.reali.org.il
SUMMARY:ה' חוה"מ
DESCRIPTION:
URL:https://hadarim.reali.org.il/event/%d7%90-%d7%97%d7%95%d7%94%d7%9e-2-2-2-2/
CATEGORIES:תוכניות מיוחדות
END:VEVENT
BEGIN:VEVENT
DTSTART;VALUE=DATE:20220420
DTEND;VALUE=DATE:20220421
DTSTAMP:20260420T020802
CREATED:20220227T101528Z
LAST-MODIFIED:20220227T101528Z
UID:10000655-1650412800-1650499199@hadarim.reali.org.il
SUMMARY:ד' חוה"מ
DESCRIPTION:
URL:https://hadarim.reali.org.il/event/%d7%90-%d7%97%d7%95%d7%94%d7%9e-2-2-2/
CATEGORIES:תוכניות מיוחדות
END:VEVENT
BEGIN:VEVENT
DTSTART;VALUE=DATE:20220419
DTEND;VALUE=DATE:20220420
DTSTAMP:20260420T020802
CREATED:20220227T101439Z
LAST-MODIFIED:20220227T101439Z
UID:10000651-1650326400-1650412799@hadarim.reali.org.il
SUMMARY:ג' חוה"מ
DESCRIPTION:
URL:https://hadarim.reali.org.il/event/%d7%90-%d7%97%d7%95%d7%94%d7%9e-2-2/
CATEGORIES:תוכניות מיוחדות
END:VEVENT
BEGIN:VEVENT
DTSTART;VALUE=DATE:20220418
DTEND;VALUE=DATE:20220419
DTSTAMP:20260420T020802
CREATED:20220227T101328Z
LAST-MODIFIED:20220227T101328Z
UID:10000650-1650240000-1650326399@hadarim.reali.org.il
SUMMARY:ב' חוה"מ
DESCRIPTION:
URL:https://hadarim.reali.org.il/event/%d7%90-%d7%97%d7%95%d7%94%d7%9e-2/
CATEGORIES:תוכניות מיוחדות
END:VEVENT
BEGIN:VEVENT
DTSTART;VALUE=DATE:20220417
DTEND;VALUE=DATE:20220418
DTSTAMP:20260420T020802
CREATED:20220227T101256Z
LAST-MODIFIED:20220227T101256Z
UID:10000649-1650153600-1650239999@hadarim.reali.org.il
SUMMARY:א' חוה"מ
DESCRIPTION:
URL:https://hadarim.reali.org.il/event/%d7%90-%d7%97%d7%95%d7%94%d7%9e/
CATEGORIES:תוכניות מיוחדות
END:VEVENT
BEGIN:VEVENT
DTSTART;VALUE=DATE:20220416
DTEND;VALUE=DATE:20220417
DTSTAMP:20260420T020802
CREATED:20220227T101130Z
LAST-MODIFIED:20220227T101130Z
UID:10000648-1650067200-1650153599@hadarim.reali.org.il
SUMMARY:פסח
DESCRIPTION:
URL:https://hadarim.reali.org.il/event/%d7%a4%d7%a8%d7%a9%d7%aa-%d7%aa%d7%a6%d7%95%d7%94-%d7%a9%d7%91%d7%aa-%d7%96%d7%9b%d7%95%d7%a8-2-2-2-2-5-2-6-5-5-2-2-2-2-2-2-2-2-2-2-2-2-2-2-3-4-2-2-3-2-2-2-2-2-2-2-2-2-2-2-2-2-2-2-2-2-2-2-2-2-2-2-2-75/
CATEGORIES:תוכניות מיוחדות
END:VEVENT
BEGIN:VEVENT
DTSTART;VALUE=DATE:20220415
DTEND;VALUE=DATE:20220416
DTSTAMP:20260420T020802
CREATED:20220227T101003Z
LAST-MODIFIED:20220227T101054Z
UID:10000647-1649980800-1650067199@hadarim.reali.org.il
SUMMARY:ערב פסח
DESCRIPTION:
URL:https://hadarim.reali.org.il/event/%d7%a4%d7%a8%d7%a9%d7%aa-%d7%aa%d7%a6%d7%95%d7%94-%d7%a9%d7%91%d7%aa-%d7%96%d7%9b%d7%95%d7%a8-2-2-2-2-5-2-6-5-5-2-2-2-2-2-2-2-2-2-2-2-2-2-2-3-4-2-2-3-2-2-2-2-2-2-2-2-2-2-2-2-2-2-2-2-2-2-2-2-2-2-2-2-74/
CATEGORIES:תוכניות מיוחדות
END:VEVENT
BEGIN:VEVENT
DTSTART;TZID=Europe/Helsinki:20220411T200000
DTEND;TZID=Europe/Helsinki:20220411T200000
DTSTAMP:20260420T020802
CREATED:20220328T075120Z
LAST-MODIFIED:20220404T070555Z
UID:10000696-1649707200-1649707200@hadarim.reali.org.il
SUMMARY:פרופ' שביד - ערב לזכרו
DESCRIPTION:ZOOM מס': 83987703809
URL:https://hadarim.reali.org.il/event/%d7%a4%d7%a8%d7%95%d7%a4-%d7%a9%d7%91%d7%99%d7%93-%d7%a2%d7%a8%d7%91-%d7%9c%d7%96%d7%9b%d7%a8%d7%95/
CATEGORIES:הרצאות
END:VEVENT
BEGIN:VEVENT
DTSTART;VALUE=DATE:20220409
DTEND;VALUE=DATE:20220410
DTSTAMP:20260420T020802
CREATED:20220227T100726Z
LAST-MODIFIED:20220227T100726Z
UID:10000641-1649462400-1649548799@hadarim.reali.org.il
SUMMARY:פרשת מצורע
DESCRIPTION:
URL:https://hadarim.reali.org.il/event/%d7%a4%d7%a8%d7%a9%d7%aa-%d7%aa%d7%a6%d7%95%d7%94-%d7%a9%d7%91%d7%aa-%d7%96%d7%9b%d7%95%d7%a8-2-2-2-2-5-2-6-5-5-2-2-2-2-2-2-2-2-2-2-2-2-2-2-3-4-2-2-3-2-2-2-2-2-2-2-2-2-2-2-2-2-2-2-2-2-2-2-2-2-2-2-2-71/
CATEGORIES:תוכניות מיוחדות
END:VEVENT
BEGIN:VEVENT
DTSTART;TZID=Europe/Helsinki:20220406T180000
DTEND;TZID=Europe/Helsinki:20220407T220000
DTSTAMP:20260420T020802
CREATED:20220314T085654Z
LAST-MODIFIED:20220314T085654Z
UID:10000692-1649268000-1649368800@hadarim.reali.org.il
SUMMARY:OFFBEAT FESTIVAL
DESCRIPTION:
URL:https://hadarim.reali.org.il/event/offbeat-festival/
CATEGORIES:דה ג'אז רום
END:VEVENT
BEGIN:VEVENT
DTSTART;TZID=Europe/Helsinki:20220403T193000
DTEND;TZID=Europe/Helsinki:20220403T210000
DTSTAMP:20260420T020802
CREATED:20220314T090311Z
LAST-MODIFIED:20220314T090311Z
UID:10000693-1649014200-1649019600@hadarim.reali.org.il
SUMMARY:סדר נשים
DESCRIPTION:
URL:https://hadarim.reali.org.il/event/%d7%a1%d7%93%d7%a8-%d7%a0%d7%a9%d7%99%d7%9d/
CATEGORIES:הרצאות
END:VEVENT
BEGIN:VEVENT
DTSTART;VALUE=DATE:20220402
DTEND;VALUE=DATE:20220403
DTSTAMP:20260420T020802
CREATED:20220227T100625Z
LAST-MODIFIED:20220227T100625Z
UID:10000639-1648857600-1648943999@hadarim.reali.org.il
SUMMARY:פרשת תזריע
DESCRIPTION:
URL:https://hadarim.reali.org.il/event/%d7%a4%d7%a8%d7%a9%d7%aa-%d7%aa%d7%a6%d7%95%d7%94-%d7%a9%d7%91%d7%aa-%d7%96%d7%9b%d7%95%d7%a8-2-2-2-2-5-2-6-5-5-2-2-2-2-2-2-2-2-2-2-2-2-2-2-3-4-2-2-3-2-2-2-2-2-2-2-2-2-2-2-2-2-2-2-2-2-2-2-2-2-2-2-2-70/
CATEGORIES:תוכניות מיוחדות
END:VEVENT
BEGIN:VEVENT
DTSTART;TZID=Europe/Helsinki:20220401T110000
DTEND;TZID=Europe/Helsinki:20220401T130000
DTSTAMP:20260420T020802
CREATED:20220317T082734Z
LAST-MODIFIED:20220320T081258Z
UID:10000694-1648810800-1648818000@hadarim.reali.org.il
SUMMARY:השקת ספר: אקזיטלנד
DESCRIPTION:
URL:https://hadarim.reali.org.il/event/%d7%94%d7%a9%d7%a7%d7%aa-%d7%a1%d7%a4%d7%a8-%d7%9b%d7%90%d7%91-%d7%aa%d7%94%d7%95%d7%9e%d7%99-%d7%95%d7%a2%d7%95%d7%a0%d7%92-%d7%a2%d7%99%d7%9c%d7%90%d7%99-2/
CATEGORIES:ספרים
END:VEVENT
END:VCALENDAR