BEGIN:VCALENDAR
VERSION:2.0
PRODID:-//מרכז חדרים בריאלי, בית לתרבות יהודית ישראלית - ECPv6.15.20//NONSGML v1.0//EN
CALSCALE:GREGORIAN
METHOD:PUBLISH
X-ORIGINAL-URL:https://hadarim.reali.org.il
X-WR-CALDESC:Events for מרכז חדרים בריאלי, בית לתרבות יהודית ישראלית
REFRESH-INTERVAL;VALUE=DURATION:PT1H
X-Robots-Tag:noindex
X-PUBLISHED-TTL:PT1H
BEGIN:VTIMEZONE
TZID:Europe/Helsinki
BEGIN:DAYLIGHT
TZOFFSETFROM:+0200
TZOFFSETTO:+0300
TZNAME:EEST
DTSTART:20230326T010000
END:DAYLIGHT
BEGIN:STANDARD
TZOFFSETFROM:+0300
TZOFFSETTO:+0200
TZNAME:EET
DTSTART:20231029T010000
END:STANDARD
BEGIN:DAYLIGHT
TZOFFSETFROM:+0200
TZOFFSETTO:+0300
TZNAME:EEST
DTSTART:20240331T010000
END:DAYLIGHT
BEGIN:STANDARD
TZOFFSETFROM:+0300
TZOFFSETTO:+0200
TZNAME:EET
DTSTART:20241027T010000
END:STANDARD
BEGIN:DAYLIGHT
TZOFFSETFROM:+0200
TZOFFSETTO:+0300
TZNAME:EEST
DTSTART:20250330T010000
END:DAYLIGHT
BEGIN:STANDARD
TZOFFSETFROM:+0300
TZOFFSETTO:+0200
TZNAME:EET
DTSTART:20251026T010000
END:STANDARD
BEGIN:DAYLIGHT
TZOFFSETFROM:+0200
TZOFFSETTO:+0300
TZNAME:EEST
DTSTART:20260329T010000
END:DAYLIGHT
BEGIN:STANDARD
TZOFFSETFROM:+0300
TZOFFSETTO:+0200
TZNAME:EET
DTSTART:20261025T010000
END:STANDARD
BEGIN:DAYLIGHT
TZOFFSETFROM:+0200
TZOFFSETTO:+0300
TZNAME:EEST
DTSTART:20270328T010000
END:DAYLIGHT
BEGIN:STANDARD
TZOFFSETFROM:+0300
TZOFFSETTO:+0200
TZNAME:EET
DTSTART:20271031T010000
END:STANDARD
END:VTIMEZONE
BEGIN:VEVENT
DTSTART;TZID=Europe/Helsinki:20241022T170000
DTEND;TZID=Europe/Helsinki:20241022T170000
DTSTAMP:20260425T180711
CREATED:20240910T054830Z
LAST-MODIFIED:20240925T160600Z
UID:10001117-1729616400-1729616400@hadarim.reali.org.il
SUMMARY:הצגת ילדים - "פיטר פן" | תיאטרון השעה
DESCRIPTION:
URL:https://hadarim.reali.org.il/event/%d7%94%d7%a6%d7%92%d7%aa-%d7%99%d7%9c%d7%93%d7%99%d7%9d-%d7%a4%d7%99%d7%98%d7%a8-%d7%a4%d7%9f-%d7%aa%d7%99%d7%90%d7%98%d7%a8%d7%95%d7%9f-%d7%94%d7%a9%d7%a2%d7%94/
CATEGORIES:אירועים,מופעים
END:VEVENT
BEGIN:VEVENT
DTSTART;TZID=Europe/Helsinki:20241125T203000
DTEND;TZID=Europe/Helsinki:20241125T203000
DTSTAMP:20260425T180711
CREATED:20241022T125744Z
LAST-MODIFIED:20241113T075715Z
UID:10001128-1732566600-1732566600@hadarim.reali.org.il
SUMMARY:לרגל ציון יום האלימות נגד נשים: המונודרמה "נאלמת" עם השחקנית אביטל זר אביב
DESCRIPTION:
URL:https://hadarim.reali.org.il/event/%d7%9c%d7%a8%d7%92%d7%9c-%d7%a6%d7%99%d7%95%d7%9f-%d7%99%d7%95%d7%9d-%d7%94%d7%90%d7%9c%d7%99%d7%9e%d7%95%d7%aa-%d7%a0%d7%92%d7%93-%d7%a0%d7%a9%d7%99%d7%9d-%d7%94%d7%9e%d7%95%d7%a0%d7%95%d7%93%d7%a8/
CATEGORIES:אירועים,חגים ומועדים,מופעים
END:VEVENT
BEGIN:VEVENT
DTSTART;TZID=Europe/Helsinki:20241204T200000
DTEND;TZID=Europe/Helsinki:20241204T200000
DTSTAMP:20260425T180711
CREATED:20241117T132143Z
LAST-MODIFIED:20241117T132143Z
UID:10000912-1733342400-1733342400@hadarim.reali.org.il
SUMMARY:"מפי שמירה אימבר" - מונודרמה זוכת פרסים
DESCRIPTION:
URL:https://hadarim.reali.org.il/event/%d7%9e%d7%a4%d7%99-%d7%a9%d7%9e%d7%99%d7%a8%d7%94-%d7%90%d7%99%d7%9e%d7%91%d7%a8-%d7%9e%d7%95%d7%a0%d7%95%d7%93%d7%a8%d7%9e%d7%94-%d7%96%d7%95%d7%9b%d7%aa-%d7%a4%d7%a8%d7%a1%d7%99%d7%9d/
CATEGORIES:אירועים,מופעים
END:VEVENT
BEGIN:VEVENT
DTSTART;TZID=Europe/Helsinki:20250116T193000
DTEND;TZID=Europe/Helsinki:20250116T193000
DTSTAMP:20260425T180711
CREATED:20241208T072415Z
LAST-MODIFIED:20250101T081444Z
UID:10001143-1737055800-1737055800@hadarim.reali.org.il
SUMMARY:מופע מוזיקלי "הכי טובים שיש - כספי\, גרוניך ורכטר"
DESCRIPTION:
URL:https://hadarim.reali.org.il/event/%d7%9e%d7%95%d7%a4%d7%a2-%d7%9e%d7%95%d7%96%d7%99%d7%a7%d7%9c%d7%99-%d7%94%d7%9b%d7%99-%d7%98%d7%95%d7%91%d7%99%d7%9d-%d7%a9%d7%99%d7%a9-%d7%9b%d7%a1%d7%a4%d7%99-%d7%92%d7%a8%d7%95%d7%a0%d7%99/
CATEGORIES:אירועים,מופעים
END:VEVENT
BEGIN:VEVENT
DTSTART;TZID=Europe/Helsinki:20250123T210000
DTEND;TZID=Europe/Helsinki:20250123T210000
DTSTAMP:20260425T180711
CREATED:20241128T093938Z
LAST-MODIFIED:20250101T080815Z
UID:10001137-1737666000-1737666000@hadarim.reali.org.il
SUMMARY:רונה קינן בהופעה אינטימית
DESCRIPTION:
URL:https://hadarim.reali.org.il/event/%d7%a8%d7%95%d7%a0%d7%94-%d7%a7%d7%99%d7%a0%d7%9f-%d7%91%d7%94%d7%95%d7%a4%d7%a2%d7%94-%d7%90%d7%99%d7%a0%d7%98%d7%99%d7%9e%d7%99%d7%aa/
CATEGORIES:אירועים,מופעים
END:VEVENT
BEGIN:VEVENT
DTSTART;TZID=Europe/Helsinki:20250213T200000
DTEND;TZID=Europe/Helsinki:20250213T200000
DTSTAMP:20260425T180711
CREATED:20250101T075138Z
LAST-MODIFIED:20250206T064215Z
UID:10001148-1739476800-1739476800@hadarim.reali.org.il
SUMMARY:"שורשים שרים" - אירוע אקופואטיקה בט"ו בשבט | עם צוריאל אסף\, אורי פרץ וגל נתן
DESCRIPTION:
URL:https://hadarim.reali.org.il/event/%d7%90%d7%a7%d7%95%d7%a4%d7%95%d7%90%d7%98%d7%99%d7%a7%d7%94-%d7%91%d7%98%d7%95-%d7%91%d7%a9%d7%91%d7%98-%d7%a2%d7%9d-%d7%a6%d7%95%d7%a8%d7%99%d7%90%d7%9c-%d7%90%d7%a1%d7%a3-%d7%90%d7%95%d7%a8/
CATEGORIES:אירועים,מופעים
END:VEVENT
BEGIN:VEVENT
DTSTART;TZID=Europe/Helsinki:20250403T200000
DTEND;TZID=Europe/Helsinki:20250403T200000
DTSTAMP:20260425T180711
CREATED:20250318T171912Z
LAST-MODIFIED:20250318T172023Z
UID:10001154-1743710400-1743710400@hadarim.reali.org.il
SUMMARY:"הצגה יומית" | כל העולם במה\, וכל שיר - מונולוג
DESCRIPTION:
URL:https://hadarim.reali.org.il/event/%d7%94%d7%a6%d7%92%d7%94-%d7%99%d7%95%d7%9e%d7%99%d7%aa-%d7%9b%d7%9c-%d7%94%d7%a2%d7%95%d7%9c%d7%9d-%d7%91%d7%9e%d7%94-%d7%95%d7%9b%d7%9c-%d7%a9%d7%99%d7%a8-%d7%9e%d7%95%d7%a0%d7%95%d7%9c%d7%95/
CATEGORIES:אירועים,מופעים
END:VEVENT
BEGIN:VEVENT
DTSTART;TZID=Europe/Helsinki:20250409T210000
DTEND;TZID=Europe/Helsinki:20250409T210000
DTSTAMP:20260425T180711
CREATED:20250331T050921Z
LAST-MODIFIED:20250331T062008Z
UID:10001159-1744232400-1744232400@hadarim.reali.org.il
SUMMARY:גל דה פז בהופעה אינטימית
DESCRIPTION:
URL:https://hadarim.reali.org.il/event/%d7%92%d7%9c-%d7%93%d7%94-%d7%a4%d7%96-%d7%91%d7%94%d7%95%d7%a4%d7%a2%d7%94-%d7%90%d7%99%d7%a0%d7%98%d7%99%d7%9e%d7%99%d7%aa/
CATEGORIES:אירועים,מופעים
END:VEVENT
BEGIN:VEVENT
DTSTART;TZID=Europe/Helsinki:20250520T193000
DTEND;TZID=Europe/Helsinki:20250520T193000
DTSTAMP:20260425T180711
CREATED:20250421T064722Z
LAST-MODIFIED:20250421T064722Z
UID:10000951-1747769400-1747769400@hadarim.reali.org.il
SUMMARY:ערב דיאלוגים - מופע של האנסמבל "מסך עולה" | סדנת התיאטרון של המרכז
DESCRIPTION:
URL:https://hadarim.reali.org.il/event/%d7%a2%d7%a8%d7%91-%d7%93%d7%99%d7%90%d7%9c%d7%95%d7%92%d7%99%d7%9d-%d7%9e%d7%95%d7%a4%d7%a2-%d7%a9%d7%9c-%d7%94%d7%90%d7%a0%d7%a1%d7%9e%d7%91%d7%9c-%d7%9e%d7%a1%d7%9a-%d7%a2%d7%95%d7%9c%d7%94/
CATEGORIES:אירועים,מופעים
END:VEVENT
BEGIN:VEVENT
DTSTART;TZID=Europe/Helsinki:20250714T193000
DTEND;TZID=Europe/Helsinki:20250714T193000
DTSTAMP:20260425T180711
CREATED:20250523T082701Z
LAST-MODIFIED:20250707T192634Z
UID:10000959-1752521400-1752521400@hadarim.reali.org.il
SUMMARY:"חוות החיות" - סדנת התיאטרון בהצגה המרתקת
DESCRIPTION:
URL:https://hadarim.reali.org.il/event/%d7%97%d7%95%d7%95%d7%aa-%d7%94%d7%97%d7%99%d7%95%d7%aa-%d7%a1%d7%93%d7%a0%d7%aa-%d7%94%d7%aa%d7%99%d7%90%d7%98%d7%a8%d7%95%d7%9f-%d7%91%d7%94%d7%a6%d7%92%d7%94-%d7%94%d7%9e%d7%a8%d7%aa%d7%a7/
CATEGORIES:אירועים,מופעים
END:VEVENT
BEGIN:VEVENT
DTSTART;TZID=Europe/Helsinki:20250716T193000
DTEND;TZID=Europe/Helsinki:20250716T193000
DTSTAMP:20260425T180711
CREATED:20250523T082755Z
LAST-MODIFIED:20250707T192508Z
UID:10000961-1752694200-1752694200@hadarim.reali.org.il
SUMMARY:"חוות החיות" - סדנת התיאטרון בהצגה המרתקת
DESCRIPTION:
URL:https://hadarim.reali.org.il/event/%d7%97%d7%95%d7%95%d7%aa-%d7%94%d7%97%d7%99%d7%95%d7%aa-%d7%a1%d7%93%d7%a0%d7%aa-%d7%94%d7%aa%d7%99%d7%90%d7%98%d7%a8%d7%95%d7%9f-%d7%91%d7%94%d7%a6%d7%92%d7%94-%d7%94%d7%9e%d7%a8%d7%aa%d7%a7-2/
CATEGORIES:אירועים,מופעים
END:VEVENT
BEGIN:VEVENT
DTSTART;TZID=Europe/Helsinki:20250806T200000
DTEND;TZID=Europe/Helsinki:20250806T200000
DTSTAMP:20260425T180711
CREATED:20250710T095918Z
LAST-MODIFIED:20250710T095918Z
UID:10001194-1754510400-1754510400@hadarim.reali.org.il
SUMMARY:מיי פירסט סוני | רועי הורוביץ בהצגת יחיד מתוך פסטיבל 'תיאטרונטו'
DESCRIPTION:
URL:https://hadarim.reali.org.il/event/%d7%9e%d7%99%d7%99-%d7%a4%d7%99%d7%a8%d7%a1%d7%98-%d7%a1%d7%95%d7%a0%d7%99-%d7%a8%d7%95%d7%a2%d7%99-%d7%94%d7%95%d7%a8%d7%95%d7%91%d7%99%d7%a5-%d7%91%d7%94%d7%a6%d7%92%d7%aa-%d7%99%d7%97%d7%99%d7%93/
CATEGORIES:אירועים,מופעים
END:VEVENT
BEGIN:VEVENT
DTSTART;TZID=Europe/Helsinki:20250807T210000
DTEND;TZID=Europe/Helsinki:20250807T210000
DTSTAMP:20260425T180711
CREATED:20250720T195219Z
LAST-MODIFIED:20250721T082232Z
UID:10001196-1754600400-1754600400@hadarim.reali.org.il
SUMMARY:השקת אלבום | "קרבות של בוקר" / משה ולדמן
DESCRIPTION:
URL:https://hadarim.reali.org.il/event/%d7%94%d7%a9%d7%a7%d7%aa-%d7%90%d7%9c%d7%91%d7%95%d7%9d-%d7%a7%d7%a8%d7%91%d7%95%d7%aa-%d7%a9%d7%9c-%d7%91%d7%95%d7%a7%d7%a8-%d7%9e%d7%a9%d7%94-%d7%95%d7%9c%d7%93%d7%9e%d7%9f/
CATEGORIES:אירועים,מופעים
END:VEVENT
BEGIN:VEVENT
DTSTART;TZID=Europe/Helsinki:20251113T200000
DTEND;TZID=Europe/Helsinki:20251113T200000
DTSTAMP:20260425T180711
CREATED:20251022T114510Z
LAST-MODIFIED:20251022T114510Z
UID:10001222-1763064000-1763064000@hadarim.reali.org.il
SUMMARY:משוררים כותבים אהבה | מסע ספרותי מוזיקלי מרתק מאחורי שירי האהבה הגדולים בזמר העברי
DESCRIPTION:
URL:https://hadarim.reali.org.il/event/%d7%9e%d7%a9%d7%95%d7%a8%d7%a8%d7%99%d7%9d-%d7%9b%d7%95%d7%aa%d7%91%d7%99%d7%9d-%d7%90%d7%94%d7%91%d7%94-%d7%9e%d7%a1%d7%a2-%d7%a1%d7%a4%d7%a8%d7%95%d7%aa%d7%99-%d7%9e%d7%95%d7%96%d7%99%d7%a7%d7%9c/
CATEGORIES:אירועים,מופעים
END:VEVENT
BEGIN:VEVENT
DTSTART;TZID=Europe/Helsinki:20251222T170000
DTEND;TZID=Europe/Helsinki:20251222T170000
DTSTAMP:20260425T180711
CREATED:20251204T065532Z
LAST-MODIFIED:20251204T065532Z
UID:10001233-1766422800-1766422800@hadarim.reali.org.il
SUMMARY:הצגות ילדים בחנוכה | "בארץ הפלאות"
DESCRIPTION:
URL:https://hadarim.reali.org.il/event/%d7%94%d7%a6%d7%92%d7%95%d7%aa-%d7%99%d7%9c%d7%93%d7%99%d7%9d-%d7%91%d7%97%d7%a0%d7%95%d7%9b%d7%94-%d7%91%d7%90%d7%a8%d7%a5-%d7%94%d7%a4%d7%9c%d7%90%d7%95%d7%aa/
CATEGORIES:אירועים,מופעים
END:VEVENT
BEGIN:VEVENT
DTSTART;TZID=Europe/Helsinki:20251225T200000
DTEND;TZID=Europe/Helsinki:20251225T200000
DTSTAMP:20260425T180711
CREATED:20251204T065634Z
LAST-MODIFIED:20251204T065634Z
UID:10001234-1766692800-1766692800@hadarim.reali.org.il
SUMMARY:ישראל סיפור אהבה | גבי זוהר וחברים
DESCRIPTION:
URL:https://hadarim.reali.org.il/event/%d7%99%d7%a9%d7%a8%d7%90%d7%9c-%d7%a1%d7%99%d7%a4%d7%95%d7%a8-%d7%90%d7%94%d7%91%d7%94-%d7%92%d7%91%d7%99-%d7%96%d7%95%d7%94%d7%a8-%d7%95%d7%97%d7%91%d7%a8%d7%99%d7%9d/
CATEGORIES:אירועים,מופעים
END:VEVENT
BEGIN:VEVENT
DTSTART;TZID=Europe/Helsinki:20260114T200000
DTEND;TZID=Europe/Helsinki:20260114T200000
DTSTAMP:20260425T180711
CREATED:20251204T070214Z
LAST-MODIFIED:20251204T070214Z
UID:10001237-1768420800-1768420800@hadarim.reali.org.il
SUMMARY:"בשורות טובות" | גוספל מוזיקלי
DESCRIPTION:
URL:https://hadarim.reali.org.il/event/%d7%91%d7%a9%d7%95%d7%a8%d7%95%d7%aa-%d7%98%d7%95%d7%91%d7%95%d7%aa-%d7%92%d7%95%d7%a1%d7%a4%d7%9c-%d7%9e%d7%95%d7%96%d7%99%d7%a7%d7%9c%d7%99/
CATEGORIES:אירועים,מופעים
END:VEVENT
BEGIN:VEVENT
DTSTART;TZID=Europe/Helsinki:20260211T203000
DTEND;TZID=Europe/Helsinki:20260211T203000
DTSTAMP:20260425T180711
CREATED:20260118T081850Z
LAST-MODIFIED:20260118T081850Z
UID:10001247-1770841800-1770841800@hadarim.reali.org.il
SUMMARY:הצגת תיאטרון - קומדיה רומנטית | 'להוריד את הכלב'
DESCRIPTION:
URL:https://hadarim.reali.org.il/event/%d7%94%d7%a6%d7%92%d7%aa-%d7%aa%d7%99%d7%90%d7%98%d7%a8%d7%95%d7%9f-%d7%a7%d7%95%d7%9e%d7%93%d7%99%d7%94-%d7%a8%d7%95%d7%9e%d7%a0%d7%98%d7%99%d7%aa-%d7%9c%d7%94%d7%95%d7%a8%d7%99%d7%93-%d7%90/
CATEGORIES:אירועים,מופעים
ATTACH;FMTTYPE=image/jpeg:https://hadarim.reali.org.il/wp-content/uploads/2026/01/kelev-1000.jpg
END:VEVENT
END:VCALENDAR