BEGIN:VCALENDAR
VERSION:2.0
PRODID:-//מרכז חדרים בריאלי, בית לתרבות יהודית ישראלית - ECPv6.15.20//NONSGML v1.0//EN
CALSCALE:GREGORIAN
METHOD:PUBLISH
X-ORIGINAL-URL:https://hadarim.reali.org.il
X-WR-CALDESC:Events for מרכז חדרים בריאלי, בית לתרבות יהודית ישראלית
REFRESH-INTERVAL;VALUE=DURATION:PT1H
X-Robots-Tag:noindex
X-PUBLISHED-TTL:PT1H
BEGIN:VTIMEZONE
TZID:Europe/Helsinki
BEGIN:DAYLIGHT
TZOFFSETFROM:+0200
TZOFFSETTO:+0300
TZNAME:EEST
DTSTART:20230326T010000
END:DAYLIGHT
BEGIN:STANDARD
TZOFFSETFROM:+0300
TZOFFSETTO:+0200
TZNAME:EET
DTSTART:20231029T010000
END:STANDARD
BEGIN:DAYLIGHT
TZOFFSETFROM:+0200
TZOFFSETTO:+0300
TZNAME:EEST
DTSTART:20240331T010000
END:DAYLIGHT
BEGIN:STANDARD
TZOFFSETFROM:+0300
TZOFFSETTO:+0200
TZNAME:EET
DTSTART:20241027T010000
END:STANDARD
BEGIN:DAYLIGHT
TZOFFSETFROM:+0200
TZOFFSETTO:+0300
TZNAME:EEST
DTSTART:20250330T010000
END:DAYLIGHT
BEGIN:STANDARD
TZOFFSETFROM:+0300
TZOFFSETTO:+0200
TZNAME:EET
DTSTART:20251026T010000
END:STANDARD
END:VTIMEZONE
BEGIN:VEVENT
DTSTART;TZID=Europe/Helsinki:20240103T203000
DTEND;TZID=Europe/Helsinki:20240103T203000
DTSTAMP:20260424T213830
CREATED:20240109T193941Z
LAST-MODIFIED:20240109T193941Z
UID:10001060-1704313800-1704313800@hadarim.reali.org.il
SUMMARY:דה ג'אז רום: שלוש
DESCRIPTION:מוזיקה היא דבר מרפא 🎵\, היא מקרבת בין אנשים\,  \nמדגישה את הכוח של הקהילה\, המפגש האנושי ומביאה נחמה.  \n  \nמוזמנים למופע הפתיחה של עונת חורף 2024 עם להקת SHALOSH במרכז חדרים! \nההרכב הישראלי-בינלאומי שחתומים אצל לייבל ACT (!!) מגיעים להופעה כחלק מציון עשור לעבודתם\, להשקת אלבומם החדש "Tales of Utopia". \n  \nגדי שטרן – פסנתר \nדויד מיכאלי – בס \nמתן אסייג – תופים \n  \nיום רביעי 3.1.24 | פתיחת דלתות 20:30 \nבמרכז חדרים\, ליד קמפוס ריאלי אחוזה\, רח' ד'ישראלי\, חיפה.
URL:https://hadarim.reali.org.il/event/%d7%93%d7%94-%d7%92%d7%90%d7%96-%d7%a8%d7%95%d7%9d-%d7%a9%d7%9c%d7%95%d7%a9/
CATEGORIES:אירועים,דה ג'אז רום,מופעים
END:VEVENT
BEGIN:VEVENT
DTSTART;TZID=Europe/Helsinki:20240104T200000
DTEND;TZID=Europe/Helsinki:20240104T200000
DTSTAMP:20260424T213830
CREATED:20240109T194123Z
LAST-MODIFIED:20240109T194123Z
UID:10001061-1704398400-1704398400@hadarim.reali.org.il
SUMMARY:השיר על ארץ הדרום
DESCRIPTION:מזמינים אתכם למופע ומפגש עם שירה דרומית מפעימה של משוררים מעוטף עזה\, בשילוב כמה משירי הארץ הישנה והטובה. \n  \nבהשתתפות המשוררים ישראל נטע (בארי) ויצחק כהן (מושב שובה)\, כמחווה ליצירת אנדד אלדן ולשירת בארי. \nבהנחיית צוריאל אסף\, משורר יוצר \nובליווי מוסיקלי של יעל קידר\, משוררת ויוצרת.  \nהאירוע בשיתוף הליקון.  \n  \n4.1.24 יום חמישי | 20:00 | במרכז חדרים\,  \nליד קמפוס ריאלי אחוזה\, רח' ד'ישראלי\, חיפה. \n  \nהרשמה מראש והזמנת כרטיסים באתר חדרים!
URL:https://hadarim.reali.org.il/event/%d7%94%d7%a9%d7%99%d7%a8-%d7%a2%d7%9c-%d7%90%d7%a8%d7%a5-%d7%94%d7%93%d7%a8%d7%95%d7%9d/
CATEGORIES:אירועים,מופעים
END:VEVENT
BEGIN:VEVENT
DTSTART;TZID=Europe/Helsinki:20240120T203000
DTEND;TZID=Europe/Helsinki:20240120T203000
DTSTAMP:20260424T213830
CREATED:20240109T192154Z
LAST-MODIFIED:20240109T195534Z
UID:10001056-1705782600-1705782600@hadarim.reali.org.il
SUMMARY:"הזהו אדם?" הצגה בהשראת פרימו לוי
DESCRIPTION:
URL:https://hadarim.reali.org.il/event/%d7%94%d7%96%d7%94%d7%95-%d7%90%d7%93%d7%9d-%d7%94%d7%a6%d7%92%d7%94-%d7%91%d7%94%d7%a9%d7%a8%d7%90%d7%aa-%d7%a4%d7%a8%d7%99%d7%9e%d7%95-%d7%9c%d7%95%d7%99/
CATEGORIES:אירועים,מופעים
END:VEVENT
BEGIN:VEVENT
DTSTART;TZID=Europe/Helsinki:20240131T203000
DTEND;TZID=Europe/Helsinki:20240131T203000
DTSTAMP:20260424T213830
CREATED:20240109T193532Z
LAST-MODIFIED:20240129T092211Z
UID:10001059-1706733000-1706733000@hadarim.reali.org.il
SUMMARY:דה ג'אז רום: שרון מנסור
DESCRIPTION:
URL:https://hadarim.reali.org.il/event/%d7%93%d7%94-%d7%92%d7%90%d7%96-%d7%a8%d7%95%d7%9d-%d7%a9%d7%a8%d7%95%d7%9f-%d7%9e%d7%a0%d7%a1%d7%95%d7%a8/
CATEGORIES:אירועים,דה ג'אז רום,מופעים
END:VEVENT
END:VCALENDAR