BEGIN:VCALENDAR
VERSION:2.0
PRODID:-//מרכז חדרים בריאלי, בית לתרבות יהודית ישראלית - ECPv6.15.20//NONSGML v1.0//EN
CALSCALE:GREGORIAN
METHOD:PUBLISH
X-WR-CALNAME:מרכז חדרים בריאלי, בית לתרבות יהודית ישראלית
X-ORIGINAL-URL:https://hadarim.reali.org.il
X-WR-CALDESC:Events for מרכז חדרים בריאלי, בית לתרבות יהודית ישראלית
REFRESH-INTERVAL;VALUE=DURATION:PT1H
X-Robots-Tag:noindex
X-PUBLISHED-TTL:PT1H
BEGIN:VTIMEZONE
TZID:UTC
BEGIN:STANDARD
TZOFFSETFROM:+0000
TZOFFSETTO:+0000
TZNAME:UTC
DTSTART:20210101T000000
END:STANDARD
END:VTIMEZONE
BEGIN:VTIMEZONE
TZID:Europe/Helsinki
BEGIN:DAYLIGHT
TZOFFSETFROM:+0200
TZOFFSETTO:+0300
TZNAME:EEST
DTSTART:20210328T010000
END:DAYLIGHT
BEGIN:STANDARD
TZOFFSETFROM:+0300
TZOFFSETTO:+0200
TZNAME:EET
DTSTART:20211031T010000
END:STANDARD
BEGIN:DAYLIGHT
TZOFFSETFROM:+0200
TZOFFSETTO:+0300
TZNAME:EEST
DTSTART:20220327T010000
END:DAYLIGHT
BEGIN:STANDARD
TZOFFSETFROM:+0300
TZOFFSETTO:+0200
TZNAME:EET
DTSTART:20221030T010000
END:STANDARD
BEGIN:DAYLIGHT
TZOFFSETFROM:+0200
TZOFFSETTO:+0300
TZNAME:EEST
DTSTART:20230326T010000
END:DAYLIGHT
BEGIN:STANDARD
TZOFFSETFROM:+0300
TZOFFSETTO:+0200
TZNAME:EET
DTSTART:20231029T010000
END:STANDARD
END:VTIMEZONE
BEGIN:VEVENT
DTSTART;TZID=UTC:20231206T200000
DTEND;TZID=UTC:20231206T200000
DTSTAMP:20260426T040219
CREATED:20231126T090018Z
LAST-MODIFIED:20231126T090018Z
UID:10001043-1701892800-1701892800@hadarim.reali.org.il
SUMMARY:"המוזות לא שותקות" 10 | zoom
DESCRIPTION:מפגש עשירי בסדרה "המוזות לא שותקות" – מה ניתן ללמוד מפרעות ת"ח-ת"ט?  \nבהנחיית ד"ר ענת ואתורי. הסדרה הופקה בשיתוף פעולה עם החוג לתולדות ישראל ומקרא באוניברסיטת חיפה. \nקישור זום: https://us06web.zoom.us/j/84794630626
URL:https://hadarim.reali.org.il/event/%d7%94%d7%9e%d7%95%d7%96%d7%95%d7%aa-%d7%9c%d7%90-%d7%a9%d7%95%d7%aa%d7%a7%d7%95%d7%aa-10-zoom/
CATEGORIES:אירועים
END:VEVENT
BEGIN:VEVENT
DTSTART;TZID=UTC:20231203T103000
DTEND;TZID=UTC:20231203T103000
DTSTAMP:20260426T040219
CREATED:20231126T085753Z
LAST-MODIFIED:20231126T085753Z
UID:10001042-1701599400-1701599400@hadarim.reali.org.il
SUMMARY:"המוזות לא שותקות" 9 | zoom
DESCRIPTION:מפגש תשיעי בסדרה "המוזות לא שותקות" – אבל ונקמה בשיח המקראי.  \nבהנחיית ד"ר גילי קוגלר. הסדרה הופקה בשיתוף פעולה עם החוג לתולדות ישראל ומקרא באוניברסיטת חיפה. \nקישור זום: https://us06web.zoom.us/j/84794630626
URL:https://hadarim.reali.org.il/event/%d7%94%d7%9e%d7%95%d7%96%d7%95%d7%aa-%d7%9c%d7%90-%d7%a9%d7%95%d7%aa%d7%a7%d7%95%d7%aa-9-zoom/
CATEGORIES:אירועים
END:VEVENT
BEGIN:VEVENT
DTSTART;TZID=UTC:20231130T180000
DTEND;TZID=UTC:20231130T180000
DTSTAMP:20260426T040219
CREATED:20231019T062648Z
LAST-MODIFIED:20231019T062648Z
UID:10001036-1701367200-1701367200@hadarim.reali.org.il
SUMMARY:"ספרות כמצילת חיים" – קבוצת קריאה על "יוליסס" מאת ג'יימס ג'ויס - בהנחיית הסופר ניצן ויסמן | zoom
DESCRIPTION:הסופר ניצן ויסמן: "ספרות כמצילת חיים" – קבוצת קריאה על "יוליסס" מאת ג'יימס ג'ויס | zoom  \nסדרת מפגשים | מידי יום חמישי בשעה 18:00 \nקישור זום: https://us06web.zoom.us/j/87678294905 \nסדרת מפגשים שבועיים לקריאה והכרת הרומן הגדול של המאה העשרים\, בהנחיית הסופר ניצן ויסמן. קריאה אמנותית – יהונדב פרלמן. \nלמפגשים אלו יש להירשם מראש – יש לשלוח מייל לכתובת: nizan.weisman@gmail.com
URL:https://hadarim.reali.org.il/event/%d7%a1%d7%a4%d7%a8%d7%95%d7%aa-%d7%9b%d7%9e%d7%a6%d7%99%d7%9c%d7%aa-%d7%97%d7%99%d7%99%d7%9d-%d7%a7%d7%91%d7%95%d7%a6%d7%aa-%d7%a7%d7%a8%d7%99%d7%90%d7%94-%d7%a2%d7%9c-%d7%99%d7%95-7/
CATEGORIES:אירועים
END:VEVENT
BEGIN:VEVENT
DTSTART;TZID=UTC:20231129T200000
DTEND;TZID=UTC:20231129T200000
DTSTAMP:20260426T040219
CREATED:20231106T193711Z
LAST-MODIFIED:20231114T154049Z
UID:10001041-1701288000-1701288000@hadarim.reali.org.il
SUMMARY:"גוף בתוך גוף": הריון ולידה בזמן מלחמה | zoom
DESCRIPTION:
URL:https://hadarim.reali.org.il/event/%d7%92%d7%95%d7%a3-%d7%91%d7%aa%d7%95%d7%9a-%d7%92%d7%95%d7%a3-%d7%94%d7%a8%d7%99%d7%95%d7%9f-%d7%95%d7%9c%d7%99%d7%93%d7%94-%d7%91%d7%96%d7%9e%d7%9f-%d7%9e%d7%9c%d7%97%d7%9e%d7%94-zoom/
CATEGORIES:אירועים
END:VEVENT
BEGIN:VEVENT
DTSTART;TZID=UTC:20231123T180000
DTEND;TZID=UTC:20231123T180000
DTSTAMP:20260426T040219
CREATED:20231019T062529Z
LAST-MODIFIED:20231019T062529Z
UID:10001035-1700762400-1700762400@hadarim.reali.org.il
SUMMARY:"ספרות כמצילת חיים" – קבוצת קריאה על "יוליסס" מאת ג'יימס ג'ויס - בהנחיית הסופר ניצן ויסמן | zoom
DESCRIPTION:הסופר ניצן ויסמן: "ספרות כמצילת חיים" – קבוצת קריאה על "יוליסס" מאת ג'יימס ג'ויס | zoom  \nסדרת מפגשים | מידי יום חמישי בשעה 18:00 \nקישור זום: https://us06web.zoom.us/j/87678294905 \nסדרת מפגשים שבועיים לקריאה והכרת הרומן הגדול של המאה העשרים\, בהנחיית הסופר ניצן ויסמן. קריאה אמנותית – יהונדב פרלמן. \nלמפגשים אלו יש להירשם מראש – יש לשלוח מייל לכתובת: nizan.weisman@gmail.com
URL:https://hadarim.reali.org.il/event/%d7%a1%d7%a4%d7%a8%d7%95%d7%aa-%d7%9b%d7%9e%d7%a6%d7%99%d7%9c%d7%aa-%d7%97%d7%99%d7%99%d7%9d-%d7%a7%d7%91%d7%95%d7%a6%d7%aa-%d7%a7%d7%a8%d7%99%d7%90%d7%94-%d7%a2%d7%9c-%d7%99%d7%95-6/
CATEGORIES:אירועים
END:VEVENT
BEGIN:VEVENT
DTSTART;TZID=UTC:20231116T180000
DTEND;TZID=UTC:20231116T180000
DTSTAMP:20260426T040219
CREATED:20231019T062315Z
LAST-MODIFIED:20231019T063231Z
UID:10001034-1700157600-1700157600@hadarim.reali.org.il
SUMMARY:"ספרות כמצילת חיים" – קבוצת קריאה על "יוליסס" מאת ג'יימס ג'ויס - בהנחיית הסופר ניצן ויסמן | zoom
DESCRIPTION:הסופר ניצן ויסמן: "ספרות כמצילת חיים" – קבוצת קריאה על "יוליסס" מאת ג'יימס ג'ויס | zoom  \nסדרת מפגשים | מידי יום חמישי בשעה 18:00 \nקישור זום: https://us06web.zoom.us/j/87678294905 \nסדרת מפגשים שבועיים לקריאה והכרת הרומן הגדול של המאה העשרים\, בהנחיית הסופר ניצן ויסמן. קריאה אמנותית – יהונדב פרלמן. \nלמפגשים אלו יש להירשם מראש – יש לשלוח מייל לכתובת: nizan.weisman@gmail.com
URL:https://hadarim.reali.org.il/event/%d7%a1%d7%a4%d7%a8%d7%95%d7%aa-%d7%9b%d7%9e%d7%a6%d7%99%d7%9c%d7%aa-%d7%97%d7%99%d7%99%d7%9d-%d7%a7%d7%91%d7%95%d7%a6%d7%aa-%d7%a7%d7%a8%d7%99%d7%90%d7%94-%d7%a2%d7%9c-%d7%99%d7%95-5/
CATEGORIES:אירועים
END:VEVENT
BEGIN:VEVENT
DTSTART;TZID=UTC:20231109T180000
DTEND;TZID=UTC:20231109T180000
DTSTAMP:20260426T040219
CREATED:20231019T062122Z
LAST-MODIFIED:20231019T063041Z
UID:10001033-1699552800-1699552800@hadarim.reali.org.il
SUMMARY:"ספרות כמצילת חיים" – קבוצת קריאה על "יוליסס" מאת ג'יימס ג'ויס - בהנחיית הסופר ניצן ויסמן | zoom
DESCRIPTION:הסופר ניצן ויסמן: "ספרות כמצילת חיים" – קבוצת קריאה על "יוליסס" מאת ג'יימס ג'ויס | zoom  \nסדרת מפגשים | מידי יום חמישי בשעה 18:00 \nקישור זום: https://us06web.zoom.us/j/87678294905 \nסדרת מפגשים שבועיים לקריאה והכרת הרומן הגדול של המאה העשרים\, בהנחיית הסופר ניצן ויסמן. קריאה אמנותית – יהונדב פרלמן. \nלמפגשים אלו יש להירשם מראש – יש לשלוח מייל לכתובת: nizan.weisman@gmail.com
URL:https://hadarim.reali.org.il/event/%d7%a1%d7%a4%d7%a8%d7%95%d7%aa-%d7%9b%d7%9e%d7%a6%d7%99%d7%9c%d7%aa-%d7%97%d7%99%d7%99%d7%9d-%d7%a7%d7%91%d7%95%d7%a6%d7%aa-%d7%a7%d7%a8%d7%99%d7%90%d7%94-%d7%a2%d7%9c-%d7%99%d7%95-4/
CATEGORIES:אירועים
END:VEVENT
BEGIN:VEVENT
DTSTART;TZID=UTC:20231108T200000
DTEND;TZID=UTC:20231108T200000
DTSTAMP:20260426T040219
CREATED:20231105T114628Z
LAST-MODIFIED:20231107T071704Z
UID:10000822-1699473600-1699473600@hadarim.reali.org.il
SUMMARY:"המוזות לא שותקות" 2 | zoom
DESCRIPTION:מפגש שני בסדרה "המוזות לא שותקות": "בחרבי ובקשתי: גלוי ונסתר במלחמות יעקב ובניו בפרשנות המקרא הקדומה"  \nבהנחיית ד"ר יונתן שגיב. הסדרה הופקה בשיתוף פעולה עם החוג לתולדות ישראל ומקרא באוניברסיטת חיפה. \nקישור זום: https://us06web.zoom.us/j/84794630626
URL:https://hadarim.reali.org.il/event/%d7%94%d7%9e%d7%95%d7%96%d7%95%d7%aa-%d7%9c%d7%90-%d7%a9%d7%95%d7%aa%d7%a7%d7%95%d7%aa-2-zoom/
CATEGORIES:אירועים
END:VEVENT
BEGIN:VEVENT
DTSTART;TZID=UTC:20231102T203000
DTEND;TZID=UTC:20231102T203000
DTSTAMP:20260426T040219
CREATED:20231019T071855Z
LAST-MODIFIED:20231030T135319Z
UID:10000817-1698957000-1698957000@hadarim.reali.org.il
SUMMARY:"פרה טראומה": איך נוכל להקטין את הסיכוי לטראומה בעזרת zoom | NLP
DESCRIPTION:פרה טראומה: איך נוכל להקטין את הסיכוי לטראומה בעזרת zoom | NLP \nיום ה'\, יח' חשון\, 2/11\, שעה 20:30 \nקישור זום: https://us06web.zoom.us/j/89841003357 \nבהנחיית ענבל וינוקור. ענבל היא אמא של יוגב ואדם ובת הזוג של תום. מאסטר NLP וטיימליין ומאמנת מוסמכת לטיפול בטראומה. \nמאמנת אימהות בקליניקה פרטית בקיבוץ יגור.
URL:https://hadarim.reali.org.il/event/%d7%a4%d7%a8%d7%94-%d7%98%d7%a8%d7%90%d7%95%d7%9e%d7%94-%d7%90%d7%99%d7%9a-%d7%a0%d7%95%d7%9b%d7%9c-%d7%9c%d7%94%d7%a7%d7%98%d7%99%d7%9f-%d7%90%d7%aa-%d7%94%d7%a1%d7%99%d7%9b%d7%95%d7%99-%d7%9c%d7%98/
CATEGORIES:אירועים
END:VEVENT
BEGIN:VEVENT
DTSTART;TZID=UTC:20231102T180000
DTEND;TZID=UTC:20231102T180000
DTSTAMP:20260426T040219
CREATED:20231019T061648Z
LAST-MODIFIED:20231019T062941Z
UID:10001032-1698948000-1698948000@hadarim.reali.org.il
SUMMARY:"ספרות כמצילת חיים" – קבוצת קריאה על "יוליסס" מאת ג'יימס ג'ויס - בהנחיית הסופר ניצן ויסמן | zoom
DESCRIPTION:הסופר ניצן ויסמן: "ספרות כמצילת חיים" – קבוצת קריאה על "יוליסס" מאת ג'יימס ג'ויס | zoom  \nסדרת מפגשים | מידי יום חמישי בשעה 18:00 \nקישור זום: https://us06web.zoom.us/j/87678294905 \nסדרת מפגשים שבועיים לקריאה והכרת הרומן הגדול של המאה העשרים\, בהנחיית הסופר ניצן ויסמן. קריאה אמנותית – יהונדב פרלמן. \nלמפגשים אלו יש להירשם מראש – יש לשלוח מייל לכתובת: nizan.weisman@gmail.com
URL:https://hadarim.reali.org.il/event/%d7%a1%d7%a4%d7%a8%d7%95%d7%aa-%d7%9b%d7%9e%d7%a6%d7%99%d7%9c%d7%aa-%d7%97%d7%99%d7%99%d7%9d-%d7%a7%d7%91%d7%95%d7%a6%d7%aa-%d7%a7%d7%a8%d7%99%d7%90%d7%94-%d7%a2%d7%9c-%d7%99%d7%95-3/
CATEGORIES:אירועים
END:VEVENT
BEGIN:VEVENT
DTSTART;TZID=UTC:20231031T200000
DTEND;TZID=UTC:20231031T200000
DTSTAMP:20260426T040219
CREATED:20231019T071356Z
LAST-MODIFIED:20231019T071356Z
UID:10000815-1698782400-1698782400@hadarim.reali.org.il
SUMMARY:שעה של השראה: ביטוי ויצירה בקול\, מילה ותנועה | zoom
DESCRIPTION:שעה של השראה: ביטוי ויצירה בקול\, מילה ותנועה | zoom \nיום ג'\, טו חשון\, 31/10\, שעה 20:00 \nקישור זום: https://us06web.zoom.us/j/84156304183 \nבהנחיית בת-גל אריאל\, מנחה דרך העבודה של ביירון קייטי\, e.f.t\, הו'אופונופונו ושיטות נוספות.
URL:https://hadarim.reali.org.il/event/%d7%a9%d7%a2%d7%94-%d7%a9%d7%9c-%d7%94%d7%a9%d7%a8%d7%90%d7%94-%d7%91%d7%99%d7%98%d7%95%d7%99-%d7%95%d7%99%d7%a6%d7%99%d7%a8%d7%94-%d7%91%d7%a7%d7%95%d7%9c-%d7%9e%d7%99%d7%9c%d7%94-%d7%95%d7%aa/
CATEGORIES:אירועים
END:VEVENT
BEGIN:VEVENT
DTSTART;TZID=UTC:20231029T200000
DTEND;TZID=UTC:20231029T200000
DTSTAMP:20260426T040219
CREATED:20231019T071134Z
LAST-MODIFIED:20231019T071134Z
UID:10000813-1698609600-1698609600@hadarim.reali.org.il
SUMMARY:טכניקות להתמודדות עם מצבי לחץ וחוסר ודאות | zoom
DESCRIPTION:טכניקות להתמודדות עם מצבי לחץ וחוסר ודאות | zoom  \nיום א'\, יד' חשון\, 29/10\, שעה 20:00 \nקישור זום: https://us06web.zoom.us/j/81364001287 \nבהנחיית מיכל ליבנה – אדריכלית\, משוררת\, מנחת סדנאות תודעה ומעגלי מולד לבנה. 
URL:https://hadarim.reali.org.il/event/%d7%98%d7%9b%d7%a0%d7%99%d7%a7%d7%95%d7%aa-%d7%9c%d7%94%d7%aa%d7%9e%d7%95%d7%93%d7%93%d7%95%d7%aa-%d7%a2%d7%9d-%d7%9e%d7%a6%d7%91%d7%99-%d7%9c%d7%97%d7%a5-%d7%95%d7%97%d7%95%d7%a1%d7%a8-%d7%95%d7%93/
CATEGORIES:אירועים
END:VEVENT
BEGIN:VEVENT
DTSTART;TZID=UTC:20231026T180000
DTEND;TZID=UTC:20231026T180000
DTSTAMP:20260426T040219
CREATED:20231019T061517Z
LAST-MODIFIED:20231019T062846Z
UID:10001031-1698343200-1698343200@hadarim.reali.org.il
SUMMARY:"ספרות כמצילת חיים" – קבוצת קריאה על "יוליסס" מאת ג'יימס ג'ויס - בהנחיית הסופר ניצן ויסמן | zoom
DESCRIPTION:הסופר ניצן ויסמן: "ספרות כמצילת חיים" – קבוצת קריאה על "יוליסס" מאת ג'יימס ג'ויס | zoom  \nסדרת מפגשים | מידי יום חמישי בשעה 18:00 \nקישור זום: https://us06web.zoom.us/j/87678294905 \nסדרת מפגשים שבועיים לקריאה והכרת הרומן הגדול של המאה העשרים\, בהנחיית הסופר ניצן ויסמן. קריאה אמנותית – יהונדב פרלמן. \nלמפגשים אלו יש להירשם מראש – יש לשלוח מייל לכתובת: nizan.weisman@gmail.com
URL:https://hadarim.reali.org.il/event/%d7%a1%d7%a4%d7%a8%d7%95%d7%aa-%d7%9b%d7%9e%d7%a6%d7%99%d7%9c%d7%aa-%d7%97%d7%99%d7%99%d7%9d-%d7%a7%d7%91%d7%95%d7%a6%d7%aa-%d7%a7%d7%a8%d7%99%d7%90%d7%94-%d7%a2%d7%9c-%d7%99%d7%95-2/
CATEGORIES:אירועים
END:VEVENT
BEGIN:VEVENT
DTSTART;TZID=UTC:20231024T200000
DTEND;TZID=UTC:20231024T200000
DTSTAMP:20260426T040219
CREATED:20231019T054816Z
LAST-MODIFIED:20231019T070442Z
UID:10001029-1698177600-1698177600@hadarim.reali.org.il
SUMMARY:"שגרה של חירום": הרצאה על חוסן תפקודי | zoom
DESCRIPTION:שגרה של חירום \nהרצאה בנושא: ששת ההיבטים של חוסן תפקודי  \nיום ג'\, ט' חשון\, 24/10\, שעה 20:00 \nקישור זום: https://us06web.zoom.us/j/85720983004 \nפרופ' אדר בן אליהו\, חברה במרכז הידע והמחקר הלאומי בתחום ההיערכות במצבי חירום\,  \nחוקרת בפקולטה לחינוך באוניברסיטת חיפה.
URL:https://hadarim.reali.org.il/event/%d7%a9%d7%92%d7%a8%d7%94-%d7%a9%d7%9c-%d7%97%d7%99%d7%a8%d7%95%d7%9d-zoom/
CATEGORIES:אירועים
END:VEVENT
BEGIN:VEVENT
DTSTART;TZID=UTC:20231022T200000
DTEND;TZID=UTC:20231022T200000
DTSTAMP:20260426T040219
CREATED:20231019T054330Z
LAST-MODIFIED:20231019T070320Z
UID:10001028-1698004800-1698004800@hadarim.reali.org.il
SUMMARY:יגאל גרייבר: רצועת עזה - אז והיום | zoom
DESCRIPTION:יגאל גרייבר: רצועת עזה אז והיום \nכיצד נוצרה הרצועה\, התפתחותה ומה קרה בה עד ערב "חרבות הברזל".  \nיום ראשון\, ז' חשון\, 22/10\, שעה 20:00  \nקישור זום: https://us06web.zoom.us/j/82095578359 \nד"ר יגאל גרייבר\, חוקר א"י\, מרצה ומדריך\, חבר הנהלת העמותה לתולדות חיפה ומתנדב סידרתי.
URL:https://hadarim.reali.org.il/event/%d7%99%d7%92%d7%90%d7%9c-%d7%92%d7%a8%d7%99%d7%99%d7%91%d7%a8-%d7%a8%d7%a6%d7%95%d7%a2%d7%aa-%d7%a2%d7%96%d7%94-%d7%90%d7%96-%d7%95%d7%94%d7%99%d7%95%d7%9d/
CATEGORIES:אירועים
END:VEVENT
BEGIN:VEVENT
DTSTART;TZID=UTC:20231019T180000
DTEND;TZID=UTC:20231019T180000
DTSTAMP:20260426T040219
CREATED:20231019T055500Z
LAST-MODIFIED:20231019T062757Z
UID:10001030-1697738400-1697738400@hadarim.reali.org.il
SUMMARY:"ספרות כמצילת חיים" – קבוצת קריאה על "יוליסס" מאת ג'יימס ג'ויס - בהנחיית הסופר ניצן ויסמן | zoom
DESCRIPTION:הסופר ניצן ויסמן: "ספרות כמצילת חיים" – קבוצת קריאה על "יוליסס" מאת ג'יימס ג'ויס | zoom  \nסדרת מפגשים | מידי יום חמישי בשעה 18:00 \nקישור זום: https://us06web.zoom.us/j/87678294905 \nסדרת מפגשים שבועיים לקריאה והכרת הרומן הגדול של המאה העשרים\, בהנחיית הסופר ניצן ויסמן. קריאה אמנותית – יהונדב פרלמן. \nלמפגשים אלו יש להירשם מראש – יש לשלוח מייל לכתובת: nizan.weisman@gmail.com
URL:https://hadarim.reali.org.il/event/%d7%a1%d7%a4%d7%a8%d7%95%d7%aa-%d7%9b%d7%9e%d7%a6%d7%99%d7%9c%d7%aa-%d7%97%d7%99%d7%99%d7%9d-%d7%a7%d7%91%d7%95%d7%a6%d7%aa-%d7%a7%d7%a8%d7%99%d7%90%d7%94-%d7%a2%d7%9c-%d7%99%d7%95/
CATEGORIES:אירועים
END:VEVENT
BEGIN:VEVENT
DTSTART;TZID=UTC:20230730T193000
DTEND;TZID=UTC:20230730T193000
DTSTAMP:20260426T040219
CREATED:20230703T075016Z
LAST-MODIFIED:20230703T075138Z
UID:10000979-1690745400-1690745400@hadarim.reali.org.il
SUMMARY:מדרש הגדול - פואטיקה כסמן זהות
DESCRIPTION:
URL:https://hadarim.reali.org.il/event/%d7%9e%d7%93%d7%a8%d7%a9-%d7%94%d7%92%d7%93%d7%95%d7%9c-%d7%a4%d7%95%d7%90%d7%98%d7%99%d7%a7%d7%94-%d7%9b%d7%a1%d7%9e%d7%9f-%d7%96%d7%94%d7%95%d7%aa/
CATEGORIES:הרצאות,ספרים
END:VEVENT
BEGIN:VEVENT
DTSTART;TZID=UTC:20230714T110000
DTEND;TZID=UTC:20230714T110000
DTSTAMP:20260426T040219
CREATED:20230625T111326Z
LAST-MODIFIED:20230710T065329Z
UID:10000971-1689332400-1689332400@hadarim.reali.org.il
SUMMARY:חורפו של אביב - השקת ספר
DESCRIPTION:
URL:https://hadarim.reali.org.il/event/%d7%97%d7%95%d7%a8%d7%a4%d7%95-%d7%a9%d7%9c-%d7%90%d7%91%d7%99%d7%91-%d7%94%d7%a9%d7%a7%d7%aa-%d7%a1%d7%a4%d7%a8/
CATEGORIES:הרצאות,ספרים
END:VEVENT
BEGIN:VEVENT
DTSTART;TZID=UTC:20230709T193000
DTEND;TZID=UTC:20230709T193000
DTSTAMP:20260426T040219
CREATED:20230622T082112Z
LAST-MODIFIED:20230622T082112Z
UID:10000970-1688931000-1688931000@hadarim.reali.org.il
SUMMARY:סיפורים אמיתיים - עם סדנאות הבית
DESCRIPTION:
URL:https://hadarim.reali.org.il/event/%d7%a1%d7%99%d7%a4%d7%95%d7%a8%d7%99%d7%9d-%d7%90%d7%9e%d7%99%d7%aa%d7%99%d7%99%d7%9d-%d7%a2%d7%9d-%d7%a1%d7%93%d7%a0%d7%90%d7%95%d7%aa-%d7%94%d7%91%d7%99%d7%aa/
CATEGORIES:סדנת כתיבה של סדנאות הבית,ספרים
END:VEVENT
BEGIN:VEVENT
DTSTART;TZID=UTC:20230706T193000
DTEND;TZID=UTC:20230706T193000
DTSTAMP:20260426T040219
CREATED:20230614T080837Z
LAST-MODIFIED:20230614T080837Z
UID:10000761-1688671800-1688671800@hadarim.reali.org.il
SUMMARY:היהודיה האחרונה של קפריסין
DESCRIPTION:
URL:https://hadarim.reali.org.il/event/%d7%94%d7%99%d7%94%d7%95%d7%93%d7%99%d7%94-%d7%94%d7%90%d7%97%d7%a8%d7%95%d7%a0%d7%94-%d7%a9%d7%9c-%d7%a7%d7%a4%d7%a8%d7%99%d7%a1%d7%99%d7%9f/
CATEGORIES:הרצאות,ספרים
END:VEVENT
BEGIN:VEVENT
DTSTART;TZID=UTC:20230620T200000
DTEND;TZID=UTC:20230620T200000
DTSTAMP:20260426T040219
CREATED:20230528T111713Z
LAST-MODIFIED:20230615T184952Z
UID:10000752-1687291200-1687291200@hadarim.reali.org.il
SUMMARY:מגלה החולשות - עם ישי שריד
DESCRIPTION:
URL:https://hadarim.reali.org.il/event/%d7%9e%d7%92%d7%9c%d7%94-%d7%94%d7%97%d7%95%d7%9c%d7%a9%d7%95%d7%aa-%d7%99%d7%a9%d7%99-%d7%a9%d7%a8%d7%99%d7%93/
CATEGORIES:הרצאות,ספרים
END:VEVENT
BEGIN:VEVENT
DTSTART;TZID=UTC:20230618T200000
DTEND;TZID=UTC:20230618T200000
DTSTAMP:20260426T040219
CREATED:20230528T111446Z
LAST-MODIFIED:20230611T124111Z
UID:10000751-1687118400-1687118400@hadarim.reali.org.il
SUMMARY:שנים טובות - עם מאיה ערד
DESCRIPTION:
URL:https://hadarim.reali.org.il/event/%d7%a9%d7%a0%d7%99%d7%9d-%d7%98%d7%95%d7%91%d7%95%d7%aa-%d7%a2%d7%9d-%d7%9e%d7%90%d7%99%d7%94-%d7%a2%d7%a8%d7%93/
CATEGORIES:הרצאות,ספרים
END:VEVENT
BEGIN:VEVENT
DTSTART;TZID=UTC:20230611T200000
DTEND;TZID=UTC:20230611T200000
DTSTAMP:20260426T040219
CREATED:20230523T164051Z
LAST-MODIFIED:20230523T164051Z
UID:10000749-1686513600-1686513600@hadarim.reali.org.il
SUMMARY:בני המזל - ערב עיון
DESCRIPTION:
URL:https://hadarim.reali.org.il/event/%d7%91%d7%a0%d7%99-%d7%94%d7%9e%d7%96%d7%9c-%d7%a2%d7%a8%d7%91-%d7%a2%d7%99%d7%95%d7%9f/
CATEGORIES:הרצאות,ספרים
END:VEVENT
BEGIN:VEVENT
DTSTART;TZID=UTC:20230604T193000
DTEND;TZID=UTC:20230604T193000
DTSTAMP:20260426T040219
CREATED:20230523T162029Z
LAST-MODIFIED:20230523T162029Z
UID:10000967-1685907000-1685907000@hadarim.reali.org.il
SUMMARY:קהילות יהודיות באסיה המודרנית - ערב עיון
DESCRIPTION:
URL:https://hadarim.reali.org.il/event/%d7%a7%d7%94%d7%99%d7%9c%d7%95%d7%aa-%d7%99%d7%94%d7%95%d7%93%d7%99%d7%95%d7%aa-%d7%91%d7%90%d7%a1%d7%99%d7%94-%d7%94%d7%9e%d7%95%d7%93%d7%a8%d7%a0%d7%99%d7%aa-%d7%a2%d7%a8%d7%91-%d7%a2%d7%99%d7%95/
CATEGORIES:הרצאות,ספרים
END:VEVENT
BEGIN:VEVENT
DTSTART;TZID=UTC:20230601T193000
DTEND;TZID=UTC:20230601T193000
DTSTAMP:20260426T040219
CREATED:20230523T162622Z
LAST-MODIFIED:20230523T162622Z
UID:10000748-1685647800-1685647800@hadarim.reali.org.il
SUMMARY:אמנה ישראלית - ערב עיון
DESCRIPTION:
URL:https://hadarim.reali.org.il/event/%d7%90%d7%9e%d7%a0%d7%94-%d7%99%d7%a9%d7%a8%d7%90%d7%9c%d7%99%d7%aa-%d7%a2%d7%a8%d7%91-%d7%a2%d7%99%d7%95%d7%9f/
CATEGORIES:הרצאות,ספרים
END:VEVENT
BEGIN:VEVENT
DTSTART;TZID=UTC:20221211T193000
DTEND;TZID=UTC:20221211T193000
DTSTAMP:20260426T040219
CREATED:20221124T114819Z
LAST-MODIFIED:20221124T114819Z
UID:10000812-1670787000-1670787000@hadarim.reali.org.il
SUMMARY:השקת ספר: אל מקום שהלב מושך
DESCRIPTION:
URL:https://hadarim.reali.org.il/event/%d7%94%d7%a9%d7%a7%d7%aa-%d7%a1%d7%a4%d7%a8-%d7%90%d7%9c-%d7%9e%d7%a7%d7%95%d7%9d-%d7%a9%d7%94%d7%9c%d7%91-%d7%9e%d7%95%d7%a9%d7%9a/
CATEGORIES:ספרים
END:VEVENT
BEGIN:VEVENT
DTSTART;TZID=UTC:20221205T200000
DTEND;TZID=UTC:20221205T200000
DTSTAMP:20260426T040219
CREATED:20221124T094622Z
LAST-MODIFIED:20221204T093956Z
UID:10000810-1670270400-1670270400@hadarim.reali.org.il
SUMMARY:בין ישמעאל לישראל
DESCRIPTION:האירוע הועבר לזום בקישור זה: https://us06web.zoom.us/j/83995798491
URL:https://hadarim.reali.org.il/event/%d7%91%d7%99%d7%9f-%d7%99%d7%a9%d7%9e%d7%a2%d7%90%d7%9c-%d7%9c%d7%99%d7%a9%d7%a8%d7%90%d7%9c/
CATEGORIES:הרצאות,ספרים
END:VEVENT
BEGIN:VEVENT
DTSTART;TZID=UTC:20220712T190000
DTEND;TZID=UTC:20220712T190000
DTSTAMP:20260426T040219
CREATED:20220526T071258Z
LAST-MODIFIED:20220608T084946Z
UID:10000715-1657652400-1657652400@hadarim.reali.org.il
SUMMARY:כאב תהומי ועונג עילאי
DESCRIPTION:לפרטים והרשמה: info@hadarim.reali.org.il
URL:https://hadarim.reali.org.il/event/%d7%9b%d7%90%d7%91-%d7%aa%d7%94%d7%95%d7%9e%d7%99-%d7%95%d7%a2%d7%95%d7%a0%d7%92-%d7%a2%d7%99%d7%9c%d7%90%d7%99/
CATEGORIES:ספרים
END:VEVENT
BEGIN:VEVENT
DTSTART;TZID=Europe/Helsinki:20220401T110000
DTEND;TZID=Europe/Helsinki:20220401T130000
DTSTAMP:20260426T040219
CREATED:20220317T082734Z
LAST-MODIFIED:20220320T081258Z
UID:10000694-1648810800-1648818000@hadarim.reali.org.il
SUMMARY:השקת ספר: אקזיטלנד
DESCRIPTION:
URL:https://hadarim.reali.org.il/event/%d7%94%d7%a9%d7%a7%d7%aa-%d7%a1%d7%a4%d7%a8-%d7%9b%d7%90%d7%91-%d7%aa%d7%94%d7%95%d7%9e%d7%99-%d7%95%d7%a2%d7%95%d7%a0%d7%92-%d7%a2%d7%99%d7%9c%d7%90%d7%99-2/
CATEGORIES:ספרים
END:VEVENT
END:VCALENDAR