BEGIN:VCALENDAR
VERSION:2.0
PRODID:-//מרכז חדרים בריאלי, בית לתרבות יהודית ישראלית - ECPv6.15.20//NONSGML v1.0//EN
CALSCALE:GREGORIAN
METHOD:PUBLISH
X-WR-CALNAME:מרכז חדרים בריאלי, בית לתרבות יהודית ישראלית
X-ORIGINAL-URL:https://hadarim.reali.org.il
X-WR-CALDESC:Events for מרכז חדרים בריאלי, בית לתרבות יהודית ישראלית
REFRESH-INTERVAL;VALUE=DURATION:PT1H
X-Robots-Tag:noindex
X-PUBLISHED-TTL:PT1H
BEGIN:VTIMEZONE
TZID:UTC
BEGIN:STANDARD
TZOFFSETFROM:+0000
TZOFFSETTO:+0000
TZNAME:UTC
DTSTART:20220101T000000
END:STANDARD
END:VTIMEZONE
BEGIN:VEVENT
DTSTART;TZID=UTC:20231102T180000
DTEND;TZID=UTC:20231102T180000
DTSTAMP:20260424T155153
CREATED:20231019T061648Z
LAST-MODIFIED:20231019T062941Z
UID:10001032-1698948000-1698948000@hadarim.reali.org.il
SUMMARY:"ספרות כמצילת חיים" – קבוצת קריאה על "יוליסס" מאת ג'יימס ג'ויס - בהנחיית הסופר ניצן ויסמן | zoom
DESCRIPTION:הסופר ניצן ויסמן: "ספרות כמצילת חיים" – קבוצת קריאה על "יוליסס" מאת ג'יימס ג'ויס | zoom  \nסדרת מפגשים | מידי יום חמישי בשעה 18:00 \nקישור זום: https://us06web.zoom.us/j/87678294905 \nסדרת מפגשים שבועיים לקריאה והכרת הרומן הגדול של המאה העשרים\, בהנחיית הסופר ניצן ויסמן. קריאה אמנותית – יהונדב פרלמן. \nלמפגשים אלו יש להירשם מראש – יש לשלוח מייל לכתובת: nizan.weisman@gmail.com
URL:https://hadarim.reali.org.il/event/%d7%a1%d7%a4%d7%a8%d7%95%d7%aa-%d7%9b%d7%9e%d7%a6%d7%99%d7%9c%d7%aa-%d7%97%d7%99%d7%99%d7%9d-%d7%a7%d7%91%d7%95%d7%a6%d7%aa-%d7%a7%d7%a8%d7%99%d7%90%d7%94-%d7%a2%d7%9c-%d7%99%d7%95-3/
CATEGORIES:אירועים
END:VEVENT
BEGIN:VEVENT
DTSTART;TZID=UTC:20231102T203000
DTEND;TZID=UTC:20231102T203000
DTSTAMP:20260424T155153
CREATED:20231019T071855Z
LAST-MODIFIED:20231030T135319Z
UID:10000817-1698957000-1698957000@hadarim.reali.org.il
SUMMARY:"פרה טראומה": איך נוכל להקטין את הסיכוי לטראומה בעזרת zoom | NLP
DESCRIPTION:פרה טראומה: איך נוכל להקטין את הסיכוי לטראומה בעזרת zoom | NLP \nיום ה'\, יח' חשון\, 2/11\, שעה 20:30 \nקישור זום: https://us06web.zoom.us/j/89841003357 \nבהנחיית ענבל וינוקור. ענבל היא אמא של יוגב ואדם ובת הזוג של תום. מאסטר NLP וטיימליין ומאמנת מוסמכת לטיפול בטראומה. \nמאמנת אימהות בקליניקה פרטית בקיבוץ יגור.
URL:https://hadarim.reali.org.il/event/%d7%a4%d7%a8%d7%94-%d7%98%d7%a8%d7%90%d7%95%d7%9e%d7%94-%d7%90%d7%99%d7%9a-%d7%a0%d7%95%d7%9b%d7%9c-%d7%9c%d7%94%d7%a7%d7%98%d7%99%d7%9f-%d7%90%d7%aa-%d7%94%d7%a1%d7%99%d7%9b%d7%95%d7%99-%d7%9c%d7%98/
CATEGORIES:אירועים
END:VEVENT
BEGIN:VEVENT
DTSTART;TZID=UTC:20231108T200000
DTEND;TZID=UTC:20231108T200000
DTSTAMP:20260424T155153
CREATED:20231105T114628Z
LAST-MODIFIED:20231107T071704Z
UID:10000822-1699473600-1699473600@hadarim.reali.org.il
SUMMARY:"המוזות לא שותקות" 2 | zoom
DESCRIPTION:מפגש שני בסדרה "המוזות לא שותקות": "בחרבי ובקשתי: גלוי ונסתר במלחמות יעקב ובניו בפרשנות המקרא הקדומה"  \nבהנחיית ד"ר יונתן שגיב. הסדרה הופקה בשיתוף פעולה עם החוג לתולדות ישראל ומקרא באוניברסיטת חיפה. \nקישור זום: https://us06web.zoom.us/j/84794630626
URL:https://hadarim.reali.org.il/event/%d7%94%d7%9e%d7%95%d7%96%d7%95%d7%aa-%d7%9c%d7%90-%d7%a9%d7%95%d7%aa%d7%a7%d7%95%d7%aa-2-zoom/
CATEGORIES:אירועים
END:VEVENT
BEGIN:VEVENT
DTSTART;TZID=UTC:20231109T180000
DTEND;TZID=UTC:20231109T180000
DTSTAMP:20260424T155153
CREATED:20231019T062122Z
LAST-MODIFIED:20231019T063041Z
UID:10001033-1699552800-1699552800@hadarim.reali.org.il
SUMMARY:"ספרות כמצילת חיים" – קבוצת קריאה על "יוליסס" מאת ג'יימס ג'ויס - בהנחיית הסופר ניצן ויסמן | zoom
DESCRIPTION:הסופר ניצן ויסמן: "ספרות כמצילת חיים" – קבוצת קריאה על "יוליסס" מאת ג'יימס ג'ויס | zoom  \nסדרת מפגשים | מידי יום חמישי בשעה 18:00 \nקישור זום: https://us06web.zoom.us/j/87678294905 \nסדרת מפגשים שבועיים לקריאה והכרת הרומן הגדול של המאה העשרים\, בהנחיית הסופר ניצן ויסמן. קריאה אמנותית – יהונדב פרלמן. \nלמפגשים אלו יש להירשם מראש – יש לשלוח מייל לכתובת: nizan.weisman@gmail.com
URL:https://hadarim.reali.org.il/event/%d7%a1%d7%a4%d7%a8%d7%95%d7%aa-%d7%9b%d7%9e%d7%a6%d7%99%d7%9c%d7%aa-%d7%97%d7%99%d7%99%d7%9d-%d7%a7%d7%91%d7%95%d7%a6%d7%aa-%d7%a7%d7%a8%d7%99%d7%90%d7%94-%d7%a2%d7%9c-%d7%99%d7%95-4/
CATEGORIES:אירועים
END:VEVENT
BEGIN:VEVENT
DTSTART;TZID=UTC:20231116T180000
DTEND;TZID=UTC:20231116T180000
DTSTAMP:20260424T155153
CREATED:20231019T062315Z
LAST-MODIFIED:20231019T063231Z
UID:10001034-1700157600-1700157600@hadarim.reali.org.il
SUMMARY:"ספרות כמצילת חיים" – קבוצת קריאה על "יוליסס" מאת ג'יימס ג'ויס - בהנחיית הסופר ניצן ויסמן | zoom
DESCRIPTION:הסופר ניצן ויסמן: "ספרות כמצילת חיים" – קבוצת קריאה על "יוליסס" מאת ג'יימס ג'ויס | zoom  \nסדרת מפגשים | מידי יום חמישי בשעה 18:00 \nקישור זום: https://us06web.zoom.us/j/87678294905 \nסדרת מפגשים שבועיים לקריאה והכרת הרומן הגדול של המאה העשרים\, בהנחיית הסופר ניצן ויסמן. קריאה אמנותית – יהונדב פרלמן. \nלמפגשים אלו יש להירשם מראש – יש לשלוח מייל לכתובת: nizan.weisman@gmail.com
URL:https://hadarim.reali.org.il/event/%d7%a1%d7%a4%d7%a8%d7%95%d7%aa-%d7%9b%d7%9e%d7%a6%d7%99%d7%9c%d7%aa-%d7%97%d7%99%d7%99%d7%9d-%d7%a7%d7%91%d7%95%d7%a6%d7%aa-%d7%a7%d7%a8%d7%99%d7%90%d7%94-%d7%a2%d7%9c-%d7%99%d7%95-5/
CATEGORIES:אירועים
END:VEVENT
BEGIN:VEVENT
DTSTART;TZID=UTC:20231123T180000
DTEND;TZID=UTC:20231123T180000
DTSTAMP:20260424T155153
CREATED:20231019T062529Z
LAST-MODIFIED:20231019T062529Z
UID:10001035-1700762400-1700762400@hadarim.reali.org.il
SUMMARY:"ספרות כמצילת חיים" – קבוצת קריאה על "יוליסס" מאת ג'יימס ג'ויס - בהנחיית הסופר ניצן ויסמן | zoom
DESCRIPTION:הסופר ניצן ויסמן: "ספרות כמצילת חיים" – קבוצת קריאה על "יוליסס" מאת ג'יימס ג'ויס | zoom  \nסדרת מפגשים | מידי יום חמישי בשעה 18:00 \nקישור זום: https://us06web.zoom.us/j/87678294905 \nסדרת מפגשים שבועיים לקריאה והכרת הרומן הגדול של המאה העשרים\, בהנחיית הסופר ניצן ויסמן. קריאה אמנותית – יהונדב פרלמן. \nלמפגשים אלו יש להירשם מראש – יש לשלוח מייל לכתובת: nizan.weisman@gmail.com
URL:https://hadarim.reali.org.il/event/%d7%a1%d7%a4%d7%a8%d7%95%d7%aa-%d7%9b%d7%9e%d7%a6%d7%99%d7%9c%d7%aa-%d7%97%d7%99%d7%99%d7%9d-%d7%a7%d7%91%d7%95%d7%a6%d7%aa-%d7%a7%d7%a8%d7%99%d7%90%d7%94-%d7%a2%d7%9c-%d7%99%d7%95-6/
CATEGORIES:אירועים
END:VEVENT
BEGIN:VEVENT
DTSTART;TZID=UTC:20231129T200000
DTEND;TZID=UTC:20231129T200000
DTSTAMP:20260424T155153
CREATED:20231106T193711Z
LAST-MODIFIED:20231114T154049Z
UID:10001041-1701288000-1701288000@hadarim.reali.org.il
SUMMARY:"גוף בתוך גוף": הריון ולידה בזמן מלחמה | zoom
DESCRIPTION:
URL:https://hadarim.reali.org.il/event/%d7%92%d7%95%d7%a3-%d7%91%d7%aa%d7%95%d7%9a-%d7%92%d7%95%d7%a3-%d7%94%d7%a8%d7%99%d7%95%d7%9f-%d7%95%d7%9c%d7%99%d7%93%d7%94-%d7%91%d7%96%d7%9e%d7%9f-%d7%9e%d7%9c%d7%97%d7%9e%d7%94-zoom/
CATEGORIES:אירועים
END:VEVENT
BEGIN:VEVENT
DTSTART;TZID=UTC:20231130T180000
DTEND;TZID=UTC:20231130T180000
DTSTAMP:20260424T155153
CREATED:20231019T062648Z
LAST-MODIFIED:20231019T062648Z
UID:10001036-1701367200-1701367200@hadarim.reali.org.il
SUMMARY:"ספרות כמצילת חיים" – קבוצת קריאה על "יוליסס" מאת ג'יימס ג'ויס - בהנחיית הסופר ניצן ויסמן | zoom
DESCRIPTION:הסופר ניצן ויסמן: "ספרות כמצילת חיים" – קבוצת קריאה על "יוליסס" מאת ג'יימס ג'ויס | zoom  \nסדרת מפגשים | מידי יום חמישי בשעה 18:00 \nקישור זום: https://us06web.zoom.us/j/87678294905 \nסדרת מפגשים שבועיים לקריאה והכרת הרומן הגדול של המאה העשרים\, בהנחיית הסופר ניצן ויסמן. קריאה אמנותית – יהונדב פרלמן. \nלמפגשים אלו יש להירשם מראש – יש לשלוח מייל לכתובת: nizan.weisman@gmail.com
URL:https://hadarim.reali.org.il/event/%d7%a1%d7%a4%d7%a8%d7%95%d7%aa-%d7%9b%d7%9e%d7%a6%d7%99%d7%9c%d7%aa-%d7%97%d7%99%d7%99%d7%9d-%d7%a7%d7%91%d7%95%d7%a6%d7%aa-%d7%a7%d7%a8%d7%99%d7%90%d7%94-%d7%a2%d7%9c-%d7%99%d7%95-7/
CATEGORIES:אירועים
END:VEVENT
END:VCALENDAR