BEGIN:VCALENDAR
VERSION:2.0
PRODID:-//מרכז חדרים בריאלי, בית לתרבות יהודית ישראלית - ECPv6.15.20//NONSGML v1.0//EN
CALSCALE:GREGORIAN
METHOD:PUBLISH
X-WR-CALNAME:מרכז חדרים בריאלי, בית לתרבות יהודית ישראלית
X-ORIGINAL-URL:https://hadarim.reali.org.il
X-WR-CALDESC:Events for מרכז חדרים בריאלי, בית לתרבות יהודית ישראלית
REFRESH-INTERVAL;VALUE=DURATION:PT1H
X-Robots-Tag:noindex
X-PUBLISHED-TTL:PT1H
BEGIN:VTIMEZONE
TZID:UTC
BEGIN:STANDARD
TZOFFSETFROM:+0000
TZOFFSETTO:+0000
TZNAME:UTC
DTSTART:20220101T000000
END:STANDARD
END:VTIMEZONE
BEGIN:VEVENT
DTSTART;TZID=UTC:20231219T200000
DTEND;TZID=UTC:20231219T200000
DTSTAMP:20260419T173821
CREATED:20231204T080013Z
LAST-MODIFIED:20231217T092307Z
UID:10001047-1703016000-1703016000@hadarim.reali.org.il
SUMMARY:ערב על הספר "האנרכיסטיות" מאת מיכל בן נפתלי | zoom
DESCRIPTION:
URL:https://hadarim.reali.org.il/event/%d7%a2%d7%a8%d7%91-%d7%a2%d7%9c-%d7%94%d7%a1%d7%a4%d7%a8-%d7%94%d7%90%d7%a0%d7%a8%d7%9b%d7%99%d7%a1%d7%98%d7%99%d7%95%d7%aa-%d7%9e%d7%90%d7%aa-%d7%9e%d7%99%d7%9b%d7%9c-%d7%91%d7%9f-%d7%a0%d7%a4/
CATEGORIES:אירועים,הרצאות
END:VEVENT
END:VCALENDAR