BEGIN:VCALENDAR
VERSION:2.0
PRODID:-//מרכז חדרים בריאלי, בית לתרבות יהודית ישראלית - ECPv6.15.20//NONSGML v1.0//EN
CALSCALE:GREGORIAN
METHOD:PUBLISH
X-WR-CALNAME:מרכז חדרים בריאלי, בית לתרבות יהודית ישראלית
X-ORIGINAL-URL:https://hadarim.reali.org.il
X-WR-CALDESC:Events for מרכז חדרים בריאלי, בית לתרבות יהודית ישראלית
REFRESH-INTERVAL;VALUE=DURATION:PT1H
X-Robots-Tag:noindex
X-PUBLISHED-TTL:PT1H
BEGIN:VTIMEZONE
TZID:UTC
BEGIN:STANDARD
TZOFFSETFROM:+0000
TZOFFSETTO:+0000
TZNAME:UTC
DTSTART:20220101T000000
END:STANDARD
END:VTIMEZONE
BEGIN:VEVENT
DTSTART;VALUE=DATE:20231211
DTEND;VALUE=DATE:20231212
DTSTAMP:20260419T173913
CREATED:20230920T104608Z
LAST-MODIFIED:20230920T104608Z
UID:10001019-1702252800-1702339199@hadarim.reali.org.il
SUMMARY:חנוכה
DESCRIPTION:
URL:https://hadarim.reali.org.il/event/%d7%a4%d7%a8%d7%a9%d7%aa-%d7%94%d7%90%d7%96%d7%99%d7%a0%d7%95-2-2-2-2-2-2-2-2-2-2-2-2-2-2-3-2-2-2-2-2-2-2-2-2-2-2-2-2-2/
END:VEVENT
BEGIN:VEVENT
DTSTART;VALUE=DATE:20231211
DTEND;VALUE=DATE:20231212
DTSTAMP:20260419T173913
CREATED:20231002T193051Z
LAST-MODIFIED:20231002T193051Z
UID:10001027-1702252800-1702339199@hadarim.reali.org.il
SUMMARY:כנס מורים למקרא
DESCRIPTION:
URL:https://hadarim.reali.org.il/event/%d7%9b%d7%a0%d7%a1-%d7%9e%d7%95%d7%a8%d7%99%d7%9d-%d7%9c%d7%9e%d7%a7%d7%a8%d7%90/
END:VEVENT
END:VCALENDAR