BEGIN:VCALENDAR
VERSION:2.0
PRODID:-//מרכז חדרים בריאלי, בית לתרבות יהודית ישראלית - ECPv6.15.20//NONSGML v1.0//EN
CALSCALE:GREGORIAN
METHOD:PUBLISH
X-ORIGINAL-URL:https://hadarim.reali.org.il
X-WR-CALDESC:Events for מרכז חדרים בריאלי, בית לתרבות יהודית ישראלית
REFRESH-INTERVAL;VALUE=DURATION:PT1H
X-Robots-Tag:noindex
X-PUBLISHED-TTL:PT1H
BEGIN:VTIMEZONE
TZID:UTC
BEGIN:STANDARD
TZOFFSETFROM:+0000
TZOFFSETTO:+0000
TZNAME:UTC
DTSTART:20220101T000000
END:STANDARD
END:VTIMEZONE
BEGIN:VEVENT
DTSTART;VALUE=DATE:20231210
DTEND;VALUE=DATE:20231211
DTSTAMP:20260419T173929
CREATED:20230920T104540Z
LAST-MODIFIED:20230920T104540Z
UID:10001018-1702166400-1702252799@hadarim.reali.org.il
SUMMARY:חנוכה
DESCRIPTION:
URL:https://hadarim.reali.org.il/event/%d7%a4%d7%a8%d7%a9%d7%aa-%d7%94%d7%90%d7%96%d7%99%d7%a0%d7%95-2-2-2-2-2-2-2-2-2-2-2-2-2-2-3-2-2-2-2-2-2-2-2-2-2-2-2-2/
END:VEVENT
BEGIN:VEVENT
DTSTART;TZID=UTC:20231210T103000
DTEND;TZID=UTC:20231210T103000
DTSTAMP:20260419T173929
CREATED:20231126T090349Z
LAST-MODIFIED:20231126T090349Z
UID:10001044-1702204200-1702204200@hadarim.reali.org.il
SUMMARY:"המוזות לא שותקות" 11 | zoom
DESCRIPTION:מפגש מס' 11 בסדרה "המוזות לא שותקות" – עמנואל לוינס בתגובה למלחמת העולם השניה.  \nבהנחיית ד"ר סדריק כהן סקלי. הסדרה הופקה בשיתוף פעולה עם החוג לתולדות ישראל ומקרא באוניברסיטת חיפה. \nקישור זום: https://us06web.zoom.us/j/84794630626
URL:https://hadarim.reali.org.il/event/%d7%94%d7%9e%d7%95%d7%96%d7%95%d7%aa-%d7%9c%d7%90-%d7%a9%d7%95%d7%aa%d7%a7%d7%95%d7%aa-11-zoom/
CATEGORIES:אירועים
END:VEVENT
END:VCALENDAR