BEGIN:VCALENDAR
VERSION:2.0
PRODID:-//מרכז חדרים בריאלי, בית לתרבות יהודית ישראלית - ECPv6.15.20//NONSGML v1.0//EN
CALSCALE:GREGORIAN
METHOD:PUBLISH
X-WR-CALNAME:מרכז חדרים בריאלי, בית לתרבות יהודית ישראלית
X-ORIGINAL-URL:https://hadarim.reali.org.il
X-WR-CALDESC:Events for מרכז חדרים בריאלי, בית לתרבות יהודית ישראלית
REFRESH-INTERVAL;VALUE=DURATION:PT1H
X-Robots-Tag:noindex
X-PUBLISHED-TTL:PT1H
BEGIN:VTIMEZONE
TZID:UTC
BEGIN:STANDARD
TZOFFSETFROM:+0000
TZOFFSETTO:+0000
TZNAME:UTC
DTSTART:20220101T000000
END:STANDARD
END:VTIMEZONE
BEGIN:VEVENT
DTSTART;TZID=UTC:20231203T103000
DTEND;TZID=UTC:20231203T103000
DTSTAMP:20260419T173915
CREATED:20231126T085753Z
LAST-MODIFIED:20231126T085753Z
UID:10001042-1701599400-1701599400@hadarim.reali.org.il
SUMMARY:"המוזות לא שותקות" 9 | zoom
DESCRIPTION:מפגש תשיעי בסדרה "המוזות לא שותקות" – אבל ונקמה בשיח המקראי.  \nבהנחיית ד"ר גילי קוגלר. הסדרה הופקה בשיתוף פעולה עם החוג לתולדות ישראל ומקרא באוניברסיטת חיפה. \nקישור זום: https://us06web.zoom.us/j/84794630626
URL:https://hadarim.reali.org.il/event/%d7%94%d7%9e%d7%95%d7%96%d7%95%d7%aa-%d7%9c%d7%90-%d7%a9%d7%95%d7%aa%d7%a7%d7%95%d7%aa-9-zoom/
CATEGORIES:אירועים
END:VEVENT
END:VCALENDAR