BEGIN:VCALENDAR
VERSION:2.0
PRODID:-//מרכז חדרים בריאלי, בית לתרבות יהודית ישראלית - ECPv6.15.20//NONSGML v1.0//EN
CALSCALE:GREGORIAN
METHOD:PUBLISH
X-WR-CALNAME:מרכז חדרים בריאלי, בית לתרבות יהודית ישראלית
X-ORIGINAL-URL:https://hadarim.reali.org.il
X-WR-CALDESC:Events for מרכז חדרים בריאלי, בית לתרבות יהודית ישראלית
REFRESH-INTERVAL;VALUE=DURATION:PT1H
X-Robots-Tag:noindex
X-PUBLISHED-TTL:PT1H
BEGIN:VTIMEZONE
TZID:UTC
BEGIN:STANDARD
TZOFFSETFROM:+0000
TZOFFSETTO:+0000
TZNAME:UTC
DTSTART:20220101T000000
END:STANDARD
END:VTIMEZONE
BEGIN:VEVENT
DTSTART;TZID=UTC:20231128T203000
DTEND;TZID=UTC:20231128T203000
DTSTAMP:20260419T173825
CREATED:20231105T120031Z
LAST-MODIFIED:20231126T115720Z
UID:10001040-1701203400-1701203400@hadarim.reali.org.il
SUMMARY:השמיים שבתוכי (אתי הילסום) - משאבי רוח בימי חירום
DESCRIPTION:מפגש בנושא: משאבי רוח בימי חירום.  \nבהנחיית תהלה קארו. \nקישור זום: https://us06web.zoom.us/j/84271159145
URL:https://hadarim.reali.org.il/event/%d7%94%d7%a9%d7%9e%d7%99%d7%99%d7%9d-%d7%a9%d7%91%d7%aa%d7%95%d7%9b%d7%99-%d7%90%d7%aa%d7%99-%d7%94%d7%99%d7%9c%d7%a1%d7%95%d7%9d-%d7%9e%d7%a9%d7%90%d7%91%d7%99-%d7%a8%d7%95%d7%97-%d7%91%d7%99/
END:VEVENT
END:VCALENDAR