BEGIN:VCALENDAR
VERSION:2.0
PRODID:-//מרכז חדרים בריאלי, בית לתרבות יהודית ישראלית - ECPv6.15.20//NONSGML v1.0//EN
CALSCALE:GREGORIAN
METHOD:PUBLISH
X-WR-CALNAME:מרכז חדרים בריאלי, בית לתרבות יהודית ישראלית
X-ORIGINAL-URL:https://hadarim.reali.org.il
X-WR-CALDESC:Events for מרכז חדרים בריאלי, בית לתרבות יהודית ישראלית
REFRESH-INTERVAL;VALUE=DURATION:PT1H
X-Robots-Tag:noindex
X-PUBLISHED-TTL:PT1H
BEGIN:VTIMEZONE
TZID:UTC
BEGIN:STANDARD
TZOFFSETFROM:+0000
TZOFFSETTO:+0000
TZNAME:UTC
DTSTART:20220101T000000
END:STANDARD
END:VTIMEZONE
BEGIN:VEVENT
DTSTART;TZID=UTC:20231120T200000
DTEND;TZID=UTC:20231120T200000
DTSTAMP:20260419T185656
CREATED:20231105T115827Z
LAST-MODIFIED:20231106T084248Z
UID:10001039-1700510400-1700510400@hadarim.reali.org.il
SUMMARY:תגובת יהדות התפוצות למתרחש במדינת ישראל | zoom
DESCRIPTION:הרצאה בנושא: תגובת יהדות התפוצות למתרחש במדינת ישראל \nמרצה: ד"ר יזהר הס\, מ"מ יו"ר ההסתדרות הציונית \nקישור זום: https://us06web.zoom.us/j/81584132736
URL:https://hadarim.reali.org.il/event/%d7%aa%d7%92%d7%95%d7%91%d7%aa-%d7%99%d7%94%d7%93%d7%95%d7%aa-%d7%94%d7%aa%d7%a4%d7%95%d7%a6%d7%95%d7%aa-%d7%9c%d7%9e%d7%aa%d7%a8%d7%97%d7%a9-%d7%91%d7%9e%d7%93%d7%99%d7%a0%d7%aa-%d7%99%d7%a9%d7%a8/
END:VEVENT
END:VCALENDAR