BEGIN:VCALENDAR
VERSION:2.0
PRODID:-//מרכז חדרים בריאלי, בית לתרבות יהודית ישראלית - ECPv6.15.20//NONSGML v1.0//EN
CALSCALE:GREGORIAN
METHOD:PUBLISH
X-WR-CALNAME:מרכז חדרים בריאלי, בית לתרבות יהודית ישראלית
X-ORIGINAL-URL:https://hadarim.reali.org.il
X-WR-CALDESC:Events for מרכז חדרים בריאלי, בית לתרבות יהודית ישראלית
REFRESH-INTERVAL;VALUE=DURATION:PT1H
X-Robots-Tag:noindex
X-PUBLISHED-TTL:PT1H
BEGIN:VTIMEZONE
TZID:UTC
BEGIN:STANDARD
TZOFFSETFROM:+0000
TZOFFSETTO:+0000
TZNAME:UTC
DTSTART:20220101T000000
END:STANDARD
END:VTIMEZONE
BEGIN:VEVENT
DTSTART;TZID=UTC:20231106T200000
DTEND;TZID=UTC:20231106T200000
DTSTAMP:20260419T190241
CREATED:20231105T114244Z
LAST-MODIFIED:20231105T114244Z
UID:10000820-1699300800-1699300800@hadarim.reali.org.il
SUMMARY:קריאה מקראית בזמן הזה | zoom
DESCRIPTION:הרצאה "קריאה מקראית בזמן הזה" | הרב בני לאו. \nקישור זום:
URL:https://hadarim.reali.org.il/event/%d7%a7%d7%a8%d7%99%d7%90%d7%94-%d7%9e%d7%a7%d7%a8%d7%90%d7%99%d7%aa-%d7%91%d7%96%d7%9e%d7%9f-%d7%94%d7%96%d7%94-zoom/
END:VEVENT
END:VCALENDAR