BEGIN:VCALENDAR
VERSION:2.0
PRODID:-//מרכז חדרים בריאלי, בית לתרבות יהודית ישראלית - ECPv6.15.20//NONSGML v1.0//EN
CALSCALE:GREGORIAN
METHOD:PUBLISH
X-WR-CALNAME:מרכז חדרים בריאלי, בית לתרבות יהודית ישראלית
X-ORIGINAL-URL:https://hadarim.reali.org.il
X-WR-CALDESC:Events for מרכז חדרים בריאלי, בית לתרבות יהודית ישראלית
REFRESH-INTERVAL;VALUE=DURATION:PT1H
X-Robots-Tag:noindex
X-PUBLISHED-TTL:PT1H
BEGIN:VTIMEZONE
TZID:UTC
BEGIN:STANDARD
TZOFFSETFROM:+0000
TZOFFSETTO:+0000
TZNAME:UTC
DTSTART:20220101T000000
END:STANDARD
END:VTIMEZONE
BEGIN:VEVENT
DTSTART;TZID=UTC:20231105T103000
DTEND;TZID=UTC:20231105T113000
DTSTAMP:20260419T185657
CREATED:20231105T113921Z
LAST-MODIFIED:20231105T114036Z
UID:10000818-1699180200-1699183800@hadarim.reali.org.il
SUMMARY:"המוזות לא שותקות" | zoom
DESCRIPTION:"המוזות לא שותקות" – מפגש 1: פדיון שבויים בימי הביניים \nבהנחיית ד"ר מיכה פרי. מרצה בחוג לתולדות ישראל ומקרא באוניברסיטת חיפה. \nקישור זום: https://us06web.zoom.us/j/84794630626 \n 
URL:https://hadarim.reali.org.il/event/%d7%94%d7%a1%d7%93%d7%a8%d7%94-%d7%94%d7%9e%d7%95%d7%96%d7%95%d7%aa-%d7%9c%d7%90-%d7%a9%d7%95%d7%aa%d7%a7%d7%95%d7%aa-zoom/
END:VEVENT
END:VCALENDAR