BEGIN:VCALENDAR
VERSION:2.0
PRODID:-//מרכז חדרים בריאלי, בית לתרבות יהודית ישראלית - ECPv6.15.20//NONSGML v1.0//EN
CALSCALE:GREGORIAN
METHOD:PUBLISH
X-ORIGINAL-URL:https://hadarim.reali.org.il
X-WR-CALDESC:Events for מרכז חדרים בריאלי, בית לתרבות יהודית ישראלית
REFRESH-INTERVAL;VALUE=DURATION:PT1H
X-Robots-Tag:noindex
X-PUBLISHED-TTL:PT1H
BEGIN:VTIMEZONE
TZID:UTC
BEGIN:STANDARD
TZOFFSETFROM:+0000
TZOFFSETTO:+0000
TZNAME:UTC
DTSTART:20220101T000000
END:STANDARD
END:VTIMEZONE
BEGIN:VEVENT
DTSTART;TZID=UTC:20231031T200000
DTEND;TZID=UTC:20231031T200000
DTSTAMP:20260419T185837
CREATED:20231019T071356Z
LAST-MODIFIED:20231019T071356Z
UID:10000815-1698782400-1698782400@hadarim.reali.org.il
SUMMARY:שעה של השראה: ביטוי ויצירה בקול\, מילה ותנועה | zoom
DESCRIPTION:שעה של השראה: ביטוי ויצירה בקול\, מילה ותנועה | zoom \nיום ג'\, טו חשון\, 31/10\, שעה 20:00 \nקישור זום: https://us06web.zoom.us/j/84156304183 \nבהנחיית בת-גל אריאל\, מנחה דרך העבודה של ביירון קייטי\, e.f.t\, הו'אופונופונו ושיטות נוספות.
URL:https://hadarim.reali.org.il/event/%d7%a9%d7%a2%d7%94-%d7%a9%d7%9c-%d7%94%d7%a9%d7%a8%d7%90%d7%94-%d7%91%d7%99%d7%98%d7%95%d7%99-%d7%95%d7%99%d7%a6%d7%99%d7%a8%d7%94-%d7%91%d7%a7%d7%95%d7%9c-%d7%9e%d7%99%d7%9c%d7%94-%d7%95%d7%aa/
CATEGORIES:אירועים
END:VEVENT
END:VCALENDAR