BEGIN:VCALENDAR
VERSION:2.0
PRODID:-//מרכז חדרים בריאלי, בית לתרבות יהודית ישראלית - ECPv6.15.20//NONSGML v1.0//EN
CALSCALE:GREGORIAN
METHOD:PUBLISH
X-ORIGINAL-URL:https://hadarim.reali.org.il
X-WR-CALDESC:Events for מרכז חדרים בריאלי, בית לתרבות יהודית ישראלית
REFRESH-INTERVAL;VALUE=DURATION:PT1H
X-Robots-Tag:noindex
X-PUBLISHED-TTL:PT1H
BEGIN:VTIMEZONE
TZID:UTC
BEGIN:STANDARD
TZOFFSETFROM:+0000
TZOFFSETTO:+0000
TZNAME:UTC
DTSTART:20220101T000000
END:STANDARD
END:VTIMEZONE
BEGIN:VEVENT
DTSTART;TZID=UTC:20231029T200000
DTEND;TZID=UTC:20231029T200000
DTSTAMP:20260419T185828
CREATED:20231019T071134Z
LAST-MODIFIED:20231019T071134Z
UID:10000813-1698609600-1698609600@hadarim.reali.org.il
SUMMARY:טכניקות להתמודדות עם מצבי לחץ וחוסר ודאות | zoom
DESCRIPTION:טכניקות להתמודדות עם מצבי לחץ וחוסר ודאות | zoom  \nיום א'\, יד' חשון\, 29/10\, שעה 20:00 \nקישור זום: https://us06web.zoom.us/j/81364001287 \nבהנחיית מיכל ליבנה – אדריכלית\, משוררת\, מנחת סדנאות תודעה ומעגלי מולד לבנה. 
URL:https://hadarim.reali.org.il/event/%d7%98%d7%9b%d7%a0%d7%99%d7%a7%d7%95%d7%aa-%d7%9c%d7%94%d7%aa%d7%9e%d7%95%d7%93%d7%93%d7%95%d7%aa-%d7%a2%d7%9d-%d7%9e%d7%a6%d7%91%d7%99-%d7%9c%d7%97%d7%a5-%d7%95%d7%97%d7%95%d7%a1%d7%a8-%d7%95%d7%93/
CATEGORIES:אירועים
END:VEVENT
END:VCALENDAR