BEGIN:VCALENDAR
VERSION:2.0
PRODID:-//מרכז חדרים בריאלי, בית לתרבות יהודית ישראלית - ECPv6.15.20//NONSGML v1.0//EN
CALSCALE:GREGORIAN
METHOD:PUBLISH
X-WR-CALNAME:מרכז חדרים בריאלי, בית לתרבות יהודית ישראלית
X-ORIGINAL-URL:https://hadarim.reali.org.il
X-WR-CALDESC:Events for מרכז חדרים בריאלי, בית לתרבות יהודית ישראלית
REFRESH-INTERVAL;VALUE=DURATION:PT1H
X-Robots-Tag:noindex
X-PUBLISHED-TTL:PT1H
BEGIN:VTIMEZONE
TZID:UTC
BEGIN:STANDARD
TZOFFSETFROM:+0000
TZOFFSETTO:+0000
TZNAME:UTC
DTSTART:20220101T000000
END:STANDARD
END:VTIMEZONE
BEGIN:VEVENT
DTSTART;TZID=UTC:20231022T200000
DTEND;TZID=UTC:20231022T200000
DTSTAMP:20260419T201533
CREATED:20231019T054330Z
LAST-MODIFIED:20231019T070320Z
UID:10001028-1698004800-1698004800@hadarim.reali.org.il
SUMMARY:יגאל גרייבר: רצועת עזה - אז והיום | zoom
DESCRIPTION:יגאל גרייבר: רצועת עזה אז והיום \nכיצד נוצרה הרצועה\, התפתחותה ומה קרה בה עד ערב "חרבות הברזל".  \nיום ראשון\, ז' חשון\, 22/10\, שעה 20:00  \nקישור זום: https://us06web.zoom.us/j/82095578359 \nד"ר יגאל גרייבר\, חוקר א"י\, מרצה ומדריך\, חבר הנהלת העמותה לתולדות חיפה ומתנדב סידרתי.
URL:https://hadarim.reali.org.il/event/%d7%99%d7%92%d7%90%d7%9c-%d7%92%d7%a8%d7%99%d7%99%d7%91%d7%a8-%d7%a8%d7%a6%d7%95%d7%a2%d7%aa-%d7%a2%d7%96%d7%94-%d7%90%d7%96-%d7%95%d7%94%d7%99%d7%95%d7%9d/
CATEGORIES:אירועים
END:VEVENT
END:VCALENDAR