BEGIN:VCALENDAR
VERSION:2.0
PRODID:-//מרכז חדרים בריאלי, בית לתרבות יהודית ישראלית - ECPv6.15.20//NONSGML v1.0//EN
CALSCALE:GREGORIAN
METHOD:PUBLISH
X-ORIGINAL-URL:https://hadarim.reali.org.il
X-WR-CALDESC:Events for מרכז חדרים בריאלי, בית לתרבות יהודית ישראלית
REFRESH-INTERVAL;VALUE=DURATION:PT1H
X-Robots-Tag:noindex
X-PUBLISHED-TTL:PT1H
BEGIN:VTIMEZONE
TZID:UTC
BEGIN:STANDARD
TZOFFSETFROM:+0000
TZOFFSETTO:+0000
TZNAME:UTC
DTSTART:20220101T000000
END:STANDARD
END:VTIMEZONE
BEGIN:VEVENT
DTSTART;TZID=UTC:20231012T180000
DTEND;TZID=UTC:20231012T180000
DTSTAMP:20260419T202127
CREATED:20230919T082312Z
LAST-MODIFIED:20231012T081316Z
UID:10001012-1697133600-1697133600@hadarim.reali.org.il
SUMMARY:סיבוב ההופעות של הגולם מפראג - דיון במועדון קריאה - בזום
DESCRIPTION:
URL:https://hadarim.reali.org.il/event/%d7%a1%d7%99%d7%91%d7%95%d7%91-%d7%94%d7%94%d7%95%d7%a4%d7%a2%d7%95%d7%aa-%d7%a9%d7%9c-%d7%94%d7%92%d7%95%d7%9c%d7%9d-%d7%9e%d7%a4%d7%a8%d7%90%d7%92-%d7%93%d7%99%d7%95%d7%9f-%d7%91%d7%9e%d7%95%d7%a2/
CATEGORIES:מועדון קריאה
END:VEVENT
BEGIN:VEVENT
DTSTART;TZID=UTC:20231012T203000
DTEND;TZID=UTC:20231012T203000
DTSTAMP:20260419T202127
CREATED:20230919T082124Z
LAST-MODIFIED:20231012T081520Z
UID:10001011-1697142600-1697142600@hadarim.reali.org.il
SUMMARY:מועדון זמר - נדחה
DESCRIPTION:לאור המצב האירוע נדחה
URL:https://hadarim.reali.org.il/event/%d7%9e%d7%95%d7%a2%d7%93%d7%95%d7%9f-%d7%96%d7%9e%d7%a8-%d7%a9%d7%99%d7%a8%d7%99%d7%9d-%d7%9e%d7%94%d7%9e%d7%a7%d7%95%d7%a8%d7%95%d7%aa-%d7%95%d7%91%d7%94%d7%a9%d7%a8%d7%90%d7%aa%d7%9d/
CATEGORIES:מועדון זמר
END:VEVENT
END:VCALENDAR