BEGIN:VCALENDAR
VERSION:2.0
PRODID:-//מרכז חדרים בריאלי, בית לתרבות יהודית ישראלית - ECPv6.15.20//NONSGML v1.0//EN
CALSCALE:GREGORIAN
METHOD:PUBLISH
X-WR-CALNAME:מרכז חדרים בריאלי, בית לתרבות יהודית ישראלית
X-ORIGINAL-URL:https://hadarim.reali.org.il
X-WR-CALDESC:Events for מרכז חדרים בריאלי, בית לתרבות יהודית ישראלית
REFRESH-INTERVAL;VALUE=DURATION:PT1H
X-Robots-Tag:noindex
X-PUBLISHED-TTL:PT1H
BEGIN:VTIMEZONE
TZID:UTC
BEGIN:STANDARD
TZOFFSETFROM:+0000
TZOFFSETTO:+0000
TZNAME:UTC
DTSTART:20220101T000000
END:STANDARD
END:VTIMEZONE
BEGIN:VEVENT
DTSTART;VALUE=DATE:20231005
DTEND;VALUE=DATE:20231006
DTSTAMP:20260419T201544
CREATED:20230709T080809Z
LAST-MODIFIED:20230709T080809Z
UID:10000782-1696464000-1696550399@hadarim.reali.org.il
SUMMARY:ה חוה"מ
DESCRIPTION:
URL:https://hadarim.reali.org.il/event/%d7%a4%d7%a8%d7%a9%d7%aa-%d7%94%d7%90%d7%96%d7%99%d7%a0%d7%95-2-2-2-2-2-2-2-2-2/
CATEGORIES:תוכניות מיוחדות
END:VEVENT
END:VCALENDAR