BEGIN:VCALENDAR
VERSION:2.0
PRODID:-//מרכז חדרים בריאלי, בית לתרבות יהודית ישראלית - ECPv6.15.20//NONSGML v1.0//EN
CALSCALE:GREGORIAN
METHOD:PUBLISH
X-ORIGINAL-URL:https://hadarim.reali.org.il
X-WR-CALDESC:Events for מרכז חדרים בריאלי, בית לתרבות יהודית ישראלית
REFRESH-INTERVAL;VALUE=DURATION:PT1H
X-Robots-Tag:noindex
X-PUBLISHED-TTL:PT1H
BEGIN:VTIMEZONE
TZID:UTC
BEGIN:STANDARD
TZOFFSETFROM:+0000
TZOFFSETTO:+0000
TZNAME:UTC
DTSTART:20220101T000000
END:STANDARD
END:VTIMEZONE
BEGIN:VEVENT
DTSTART;TZID=UTC:20230927T170000
DTEND;TZID=UTC:20230927T170000
DTSTAMP:20260419T225848
CREATED:20230910T083450Z
LAST-MODIFIED:20230918T074755Z
UID:10001010-1695834000-1695834000@hadarim.reali.org.il
SUMMARY:מה באמת – הצגה לילדים
DESCRIPTION:
URL:https://hadarim.reali.org.il/event/%d7%9e%d7%94-%d7%91%d7%90%d7%9e%d7%aa-%d7%94%d7%a6%d7%92%d7%94-%d7%9c%d7%99%d7%9c%d7%93%d7%99%d7%9d/
CATEGORIES:מופעים
END:VEVENT
END:VCALENDAR