BEGIN:VCALENDAR
VERSION:2.0
PRODID:-//מרכז חדרים בריאלי, בית לתרבות יהודית ישראלית - ECPv6.15.20//NONSGML v1.0//EN
CALSCALE:GREGORIAN
METHOD:PUBLISH
X-WR-CALNAME:מרכז חדרים בריאלי, בית לתרבות יהודית ישראלית
X-ORIGINAL-URL:https://hadarim.reali.org.il
X-WR-CALDESC:Events for מרכז חדרים בריאלי, בית לתרבות יהודית ישראלית
REFRESH-INTERVAL;VALUE=DURATION:PT1H
X-Robots-Tag:noindex
X-PUBLISHED-TTL:PT1H
BEGIN:VTIMEZONE
TZID:UTC
BEGIN:STANDARD
TZOFFSETFROM:+0000
TZOFFSETTO:+0000
TZNAME:UTC
DTSTART:20220101T000000
END:STANDARD
END:VTIMEZONE
BEGIN:VEVENT
DTSTART;TZID=UTC:20230827T170000
DTEND;TZID=UTC:20230827T170000
DTSTAMP:20260419T212931
CREATED:20230626T090514Z
LAST-MODIFIED:20230702T090007Z
UID:10000972-1693155600-1693155600@hadarim.reali.org.il
SUMMARY:פינוקיו – תיאטרון השעה
DESCRIPTION:ג'פטו הוא נגר טוב לב המכין צעצועים מיוחדים לילדים.  \nיום אחד הוא מוצא בול עץ המזכיר בקווי המתאר ילד קטן. הוא מגלף את העץ\, מכין בובה וקורא לה בשם "פינוקיו". \nג'פטו\, שכה רוצה להיות אבא מביע משאלה ותקווה שפינוקיו יהפוך להיות ילד אמיתי.  \nבלילה\, כשכולם ישנים\, מחליטה הפיה הכחולה להיענות למשאלתו של ג'פטו ומעניקה לפינוקיו חיים אם יבחר ללכת בדרך הישר. \nמפה מתחיל מסעו של פינוקיו בליווי צופי ההצגה הצעירים המסייעים לפינוקיו להבחין בין טוב לרע. \nהמחזה הוא עיבוד מקורי לסיפור הקלאסי הנודע.
URL:https://hadarim.reali.org.il/event/%d7%a4%d7%99%d7%a0%d7%95%d7%a7%d7%99%d7%95/
CATEGORIES:הצגות קיץ לילדים
END:VEVENT
END:VCALENDAR