BEGIN:VCALENDAR
VERSION:2.0
PRODID:-//מרכז חדרים בריאלי, בית לתרבות יהודית ישראלית - ECPv6.15.20//NONSGML v1.0//EN
CALSCALE:GREGORIAN
METHOD:PUBLISH
X-ORIGINAL-URL:https://hadarim.reali.org.il
X-WR-CALDESC:Events for מרכז חדרים בריאלי, בית לתרבות יהודית ישראלית
REFRESH-INTERVAL;VALUE=DURATION:PT1H
X-Robots-Tag:noindex
X-PUBLISHED-TTL:PT1H
BEGIN:VTIMEZONE
TZID:UTC
BEGIN:STANDARD
TZOFFSETFROM:+0000
TZOFFSETTO:+0000
TZNAME:UTC
DTSTART:20220101T000000
END:STANDARD
END:VTIMEZONE
BEGIN:VEVENT
DTSTART;VALUE=DATE:20230706
DTEND;VALUE=DATE:20230707
DTSTAMP:20260420T002525
CREATED:20230319T095714Z
LAST-MODIFIED:20230319T095714Z
UID:10000944-1688601600-1688687999@hadarim.reali.org.il
SUMMARY:י"ז בתמוז
DESCRIPTION:
URL:https://hadarim.reali.org.il/event/%d7%a4%d7%a8%d7%a9%d7%aa-%d7%90%d7%9e%d7%95%d7%a8-2-2-2-2-2-2-2-2-2-2-2-2-2-2-2/
CATEGORIES:תוכניות מיוחדות
END:VEVENT
BEGIN:VEVENT
DTSTART;TZID=UTC:20230706T193000
DTEND;TZID=UTC:20230706T193000
DTSTAMP:20260420T002525
CREATED:20230614T080837Z
LAST-MODIFIED:20230614T080837Z
UID:10000761-1688671800-1688671800@hadarim.reali.org.il
SUMMARY:היהודיה האחרונה של קפריסין
DESCRIPTION:
URL:https://hadarim.reali.org.il/event/%d7%94%d7%99%d7%94%d7%95%d7%93%d7%99%d7%94-%d7%94%d7%90%d7%97%d7%a8%d7%95%d7%a0%d7%94-%d7%a9%d7%9c-%d7%a7%d7%a4%d7%a8%d7%99%d7%a1%d7%99%d7%9f/
CATEGORIES:הרצאות,ספרים
END:VEVENT
END:VCALENDAR