BEGIN:VCALENDAR
VERSION:2.0
PRODID:-//מרכז חדרים בריאלי, בית לתרבות יהודית ישראלית - ECPv6.15.20//NONSGML v1.0//EN
CALSCALE:GREGORIAN
METHOD:PUBLISH
X-ORIGINAL-URL:https://hadarim.reali.org.il
X-WR-CALDESC:Events for מרכז חדרים בריאלי, בית לתרבות יהודית ישראלית
REFRESH-INTERVAL;VALUE=DURATION:PT1H
X-Robots-Tag:noindex
X-PUBLISHED-TTL:PT1H
BEGIN:VTIMEZONE
TZID:UTC
BEGIN:STANDARD
TZOFFSETFROM:+0000
TZOFFSETTO:+0000
TZNAME:UTC
DTSTART:20220101T000000
END:STANDARD
END:VTIMEZONE
BEGIN:VEVENT
DTSTART;TZID=UTC:20230417T200000
DTEND;TZID=UTC:20230417T200000
DTSTAMP:20260420T042338
CREATED:20230319T063447Z
LAST-MODIFIED:20230402T072343Z
UID:10000726-1681761600-1681761600@hadarim.reali.org.il
SUMMARY:התכנסות ליום השואה
DESCRIPTION:info@hadarim.reali.org.il
URL:https://hadarim.reali.org.il/event/%d7%94%d7%aa%d7%9b%d7%a0%d7%a1%d7%95%d7%aa-%d7%9c%d7%99%d7%95%d7%9d-%d7%94%d7%a9%d7%95%d7%90%d7%94/
CATEGORIES:הרצאות,חגים ומועדים
END:VEVENT
END:VCALENDAR