BEGIN:VCALENDAR
VERSION:2.0
PRODID:-//מרכז חדרים בריאלי, בית לתרבות יהודית ישראלית - ECPv6.15.20//NONSGML v1.0//EN
CALSCALE:GREGORIAN
METHOD:PUBLISH
X-ORIGINAL-URL:https://hadarim.reali.org.il
X-WR-CALDESC:Events for מרכז חדרים בריאלי, בית לתרבות יהודית ישראלית
REFRESH-INTERVAL;VALUE=DURATION:PT1H
X-Robots-Tag:noindex
X-PUBLISHED-TTL:PT1H
BEGIN:VTIMEZONE
TZID:Europe/Helsinki
BEGIN:DAYLIGHT
TZOFFSETFROM:+0200
TZOFFSETTO:+0300
TZNAME:EEST
DTSTART:20220327T010000
END:DAYLIGHT
BEGIN:STANDARD
TZOFFSETFROM:+0300
TZOFFSETTO:+0200
TZNAME:EET
DTSTART:20221030T010000
END:STANDARD
BEGIN:DAYLIGHT
TZOFFSETFROM:+0200
TZOFFSETTO:+0300
TZNAME:EEST
DTSTART:20230326T010000
END:DAYLIGHT
BEGIN:STANDARD
TZOFFSETFROM:+0300
TZOFFSETTO:+0200
TZNAME:EET
DTSTART:20231029T010000
END:STANDARD
BEGIN:DAYLIGHT
TZOFFSETFROM:+0200
TZOFFSETTO:+0300
TZNAME:EEST
DTSTART:20240331T010000
END:DAYLIGHT
BEGIN:STANDARD
TZOFFSETFROM:+0300
TZOFFSETTO:+0200
TZNAME:EET
DTSTART:20241027T010000
END:STANDARD
END:VTIMEZONE
BEGIN:VTIMEZONE
TZID:UTC
BEGIN:STANDARD
TZOFFSETFROM:+0000
TZOFFSETTO:+0000
TZNAME:UTC
DTSTART:20220101T000000
END:STANDARD
END:VTIMEZONE
BEGIN:VEVENT
DTSTART;VALUE=DATE:20230410
DTEND;VALUE=DATE:20230411
DTSTAMP:20260420T042335
CREATED:20230118T090645Z
LAST-MODIFIED:20230118T090645Z
UID:10000708-1681084800-1681171199@hadarim.reali.org.il
SUMMARY:ד חוה"מ
DESCRIPTION:
URL:https://hadarim.reali.org.il/event/%d7%a4%d7%a8%d7%a9%d7%aa-%d7%aa%d7%a6%d7%95%d7%94-%d7%a9%d7%91%d7%aa-%d7%96%d7%9b%d7%95%d7%a8-2-2-2-2-5-2-6-5-5-2-2-2-2-2-2-2-2-2-2-2-2-2-2-3-4-2-2-3-2-2-2-2-2-2-2-2-2-2-2-2-2-2-2-2-2-2-2-2-2-2-2-1-51/
CATEGORIES:תוכניות מיוחדות
END:VEVENT
BEGIN:VEVENT
DTSTART;TZID=UTC:20230410T110000
DTEND;TZID=UTC:20230410T110000
DTSTAMP:20260420T042335
CREATED:20230402T071427Z
LAST-MODIFIED:20230402T071828Z
UID:10000950-1681124400-1681124400@hadarim.reali.org.il
SUMMARY:שיח גלריה - מילוא שור
DESCRIPTION:
URL:https://hadarim.reali.org.il/event/%d7%a9%d7%99%d7%97-%d7%92%d7%9c%d7%a8%d7%99%d7%94/
CATEGORIES:הרצאות,תערוכות
END:VEVENT
END:VCALENDAR