BEGIN:VCALENDAR
VERSION:2.0
PRODID:-//מרכז חדרים בריאלי, בית לתרבות יהודית ישראלית - ECPv6.15.20//NONSGML v1.0//EN
CALSCALE:GREGORIAN
METHOD:PUBLISH
X-ORIGINAL-URL:https://hadarim.reali.org.il
X-WR-CALDESC:Events for מרכז חדרים בריאלי, בית לתרבות יהודית ישראלית
REFRESH-INTERVAL;VALUE=DURATION:PT1H
X-Robots-Tag:noindex
X-PUBLISHED-TTL:PT1H
BEGIN:VTIMEZONE
TZID:UTC
BEGIN:STANDARD
TZOFFSETFROM:+0000
TZOFFSETTO:+0000
TZNAME:UTC
DTSTART:20220101T000000
END:STANDARD
END:VTIMEZONE
BEGIN:VEVENT
DTSTART;TZID=UTC:20230119T193000
DTEND;TZID=UTC:20230119T193000
DTSTAMP:20260420T101052
CREATED:20221220T093222Z
LAST-MODIFIED:20221220T093222Z
UID:10000690-1674156600-1674156600@hadarim.reali.org.il
SUMMARY:קהילות וזרמים: מכשירי כתיבה: זיכרון\, דמיון ושפה
DESCRIPTION:
URL:https://hadarim.reali.org.il/event/%d7%a7%d7%94%d7%99%d7%9c%d7%95%d7%aa-%d7%95%d7%96%d7%a8%d7%9e%d7%99%d7%9d-2-2/
CATEGORIES:הרצאות
END:VEVENT
END:VCALENDAR