BEGIN:VCALENDAR
VERSION:2.0
PRODID:-//מרכז חדרים בריאלי, בית לתרבות יהודית ישראלית - ECPv6.15.20//NONSGML v1.0//EN
CALSCALE:GREGORIAN
METHOD:PUBLISH
X-WR-CALNAME:מרכז חדרים בריאלי, בית לתרבות יהודית ישראלית
X-ORIGINAL-URL:https://hadarim.reali.org.il
X-WR-CALDESC:Events for מרכז חדרים בריאלי, בית לתרבות יהודית ישראלית
REFRESH-INTERVAL;VALUE=DURATION:PT1H
X-Robots-Tag:noindex
X-PUBLISHED-TTL:PT1H
BEGIN:VTIMEZONE
TZID:UTC
BEGIN:STANDARD
TZOFFSETFROM:+0000
TZOFFSETTO:+0000
TZNAME:UTC
DTSTART:20220101T000000
END:STANDARD
END:VTIMEZONE
BEGIN:VEVENT
DTSTART;TZID=UTC:20230111T203000
DTEND;TZID=UTC:20230111T203000
DTSTAMP:20260420T100935
CREATED:20221220T090845Z
LAST-MODIFIED:20221220T092643Z
UID:10000688-1673469000-1673469000@hadarim.reali.org.il
SUMMARY:חביבה פדיה – שמות
DESCRIPTION:
URL:https://hadarim.reali.org.il/event/%d7%90%d7%a8%d7%96-%d7%91%d7%99%d7%98%d7%95%d7%9f-%d7%91%d7%a8%d7%90%d7%a9%d7%99%d7%aa-2/
CATEGORIES:משוררים וחמשת הספרים
END:VEVENT
END:VCALENDAR