BEGIN:VCALENDAR
VERSION:2.0
PRODID:-//מרכז חדרים בריאלי, בית לתרבות יהודית ישראלית - ECPv6.15.20//NONSGML v1.0//EN
CALSCALE:GREGORIAN
METHOD:PUBLISH
X-ORIGINAL-URL:https://hadarim.reali.org.il
X-WR-CALDESC:Events for מרכז חדרים בריאלי, בית לתרבות יהודית ישראלית
REFRESH-INTERVAL;VALUE=DURATION:PT1H
X-Robots-Tag:noindex
X-PUBLISHED-TTL:PT1H
BEGIN:VTIMEZONE
TZID:Europe/Helsinki
BEGIN:DAYLIGHT
TZOFFSETFROM:+0200
TZOFFSETTO:+0300
TZNAME:EEST
DTSTART:20210328T010000
END:DAYLIGHT
BEGIN:STANDARD
TZOFFSETFROM:+0300
TZOFFSETTO:+0200
TZNAME:EET
DTSTART:20211031T010000
END:STANDARD
BEGIN:DAYLIGHT
TZOFFSETFROM:+0200
TZOFFSETTO:+0300
TZNAME:EEST
DTSTART:20220327T010000
END:DAYLIGHT
BEGIN:STANDARD
TZOFFSETFROM:+0300
TZOFFSETTO:+0200
TZNAME:EET
DTSTART:20221030T010000
END:STANDARD
BEGIN:DAYLIGHT
TZOFFSETFROM:+0200
TZOFFSETTO:+0300
TZNAME:EEST
DTSTART:20230326T010000
END:DAYLIGHT
BEGIN:STANDARD
TZOFFSETFROM:+0300
TZOFFSETTO:+0200
TZNAME:EET
DTSTART:20231029T010000
END:STANDARD
END:VTIMEZONE
BEGIN:VTIMEZONE
TZID:UTC
BEGIN:STANDARD
TZOFFSETFROM:+0000
TZOFFSETTO:+0000
TZNAME:UTC
DTSTART:20210101T000000
END:STANDARD
END:VTIMEZONE
BEGIN:VEVENT
DTSTART;VALUE=DATE:20221226
DTEND;VALUE=DATE:20221227
DTSTAMP:20260420T112841
CREATED:20221127T070230Z
LAST-MODIFIED:20221127T070230Z
UID:10000834-1672012800-1672099199@hadarim.reali.org.il
SUMMARY:זאת חנוכה
DESCRIPTION:
URL:https://hadarim.reali.org.il/event/%d7%a4%d7%a8%d7%a9%d7%aa-%d7%aa%d7%a6%d7%95%d7%94-%d7%a9%d7%91%d7%aa-%d7%96%d7%9b%d7%95%d7%a8-2-2-2-2-5-2-6-5-5-2-2-2-2-2-2-2-2-2-2-2-2-2-2-3-4-2-2-3-2-2-2-2-2-2-2-2-2-2-2-2-2-2-2-2-2-2-2-2-2-2-2-1-26/
CATEGORIES:תוכניות מיוחדות
END:VEVENT
BEGIN:VEVENT
DTSTART;TZID=UTC:20221226T094500
DTEND;TZID=UTC:20221226T163000
DTSTAMP:20260420T112841
CREATED:20221204T090849Z
LAST-MODIFIED:20221204T093140Z
UID:10000838-1672047900-1672072200@hadarim.reali.org.il
SUMMARY:המקרא והתקופה הפרסית - כנס החוג למקרא באוניברסיטת חיפה
DESCRIPTION:
URL:https://hadarim.reali.org.il/event/%d7%94%d7%9e%d7%a7%d7%a8%d7%90-%d7%95%d7%94%d7%aa%d7%a7%d7%95%d7%a4%d7%94-%d7%94%d7%a4%d7%a8%d7%a1%d7%99%d7%aa-%d7%9b%d7%a0%d7%a1-%d7%94%d7%97%d7%95%d7%92-%d7%9c%d7%9e%d7%a7%d7%a8%d7%90-%d7%91%d7%90/
CATEGORIES:הרצאות
END:VEVENT
END:VCALENDAR