BEGIN:VCALENDAR
VERSION:2.0
PRODID:-//מרכז חדרים בריאלי, בית לתרבות יהודית ישראלית - ECPv6.15.20//NONSGML v1.0//EN
CALSCALE:GREGORIAN
METHOD:PUBLISH
X-ORIGINAL-URL:https://hadarim.reali.org.il
X-WR-CALDESC:Events for מרכז חדרים בריאלי, בית לתרבות יהודית ישראלית
REFRESH-INTERVAL;VALUE=DURATION:PT1H
X-Robots-Tag:noindex
X-PUBLISHED-TTL:PT1H
BEGIN:VTIMEZONE
TZID:UTC
BEGIN:STANDARD
TZOFFSETFROM:+0000
TZOFFSETTO:+0000
TZNAME:UTC
DTSTART:20210101T000000
END:STANDARD
END:VTIMEZONE
BEGIN:VEVENT
DTSTART;TZID=UTC:20221202T110000
DTEND;TZID=UTC:20221202T110000
DTSTAMP:20260420T112839
CREATED:20221120T075246Z
LAST-MODIFIED:20221129T090353Z
UID:10000808-1669978800-1669978800@hadarim.reali.org.il
SUMMARY:פתיחת תערוכה - דב מדזיני
DESCRIPTION:כניסה חופשית
URL:https://hadarim.reali.org.il/event/12946/
CATEGORIES:תערוכות
END:VEVENT
END:VCALENDAR