BEGIN:VCALENDAR
VERSION:2.0
PRODID:-//מרכז חדרים בריאלי, בית לתרבות יהודית ישראלית - ECPv6.15.20//NONSGML v1.0//EN
CALSCALE:GREGORIAN
METHOD:PUBLISH
X-ORIGINAL-URL:https://hadarim.reali.org.il
X-WR-CALDESC:Events for מרכז חדרים בריאלי, בית לתרבות יהודית ישראלית
REFRESH-INTERVAL;VALUE=DURATION:PT1H
X-Robots-Tag:noindex
X-PUBLISHED-TTL:PT1H
BEGIN:VTIMEZONE
TZID:UTC
BEGIN:STANDARD
TZOFFSETFROM:+0000
TZOFFSETTO:+0000
TZNAME:UTC
DTSTART:20210101T000000
END:STANDARD
END:VTIMEZONE
BEGIN:VEVENT
DTSTART;TZID=UTC:20221117T173000
DTEND;TZID=UTC:20221117T173000
DTSTAMP:20260420T124037
CREATED:20221024T104035Z
LAST-MODIFIED:20221024T104035Z
UID:10000797-1668706200-1668706200@hadarim.reali.org.il
SUMMARY:מועדון קריאה מארח את הסופרת אמונה אלון
DESCRIPTION:
URL:https://hadarim.reali.org.il/event/%d7%94%d7%a1%d7%a4%d7%a8-%d7%94%d7%9c%d7%90-%d7%a0%d7%9b%d7%95%d7%9f-%d7%9e%d7%90%d7%aa-%d7%a0%d7%a2%d7%94-%d7%99%d7%93%d7%9c%d7%99%d7%9f-%d7%91%d7%9e%d7%95%d7%a2%d7%93%d7%95%d7%9f-%d7%a7%d7%a8-2-2/
CATEGORIES:מועדון קריאה
END:VEVENT
BEGIN:VEVENT
DTSTART;TZID=UTC:20221117T210000
DTEND;TZID=UTC:20221117T210000
DTSTAMP:20260420T124037
CREATED:20221013T051506Z
LAST-MODIFIED:20221114T084927Z
UID:10000789-1668718800-1668718800@hadarim.reali.org.il
SUMMARY:במה עברית: יזהר אשדות
DESCRIPTION:הכרטיסים אזלו!
URL:https://hadarim.reali.org.il/event/%d7%91%d7%9e%d7%94-%d7%a2%d7%91%d7%a8%d7%99%d7%aa-%d7%99%d7%96%d7%94%d7%a8-%d7%90%d7%a9%d7%93%d7%95%d7%aa/
CATEGORIES:במה עברית
END:VEVENT
END:VCALENDAR