BEGIN:VCALENDAR
VERSION:2.0
PRODID:-//מרכז חדרים בריאלי, בית לתרבות יהודית ישראלית - ECPv6.15.20//NONSGML v1.0//EN
CALSCALE:GREGORIAN
METHOD:PUBLISH
X-ORIGINAL-URL:https://hadarim.reali.org.il
X-WR-CALDESC:Events for מרכז חדרים בריאלי, בית לתרבות יהודית ישראלית
REFRESH-INTERVAL;VALUE=DURATION:PT1H
X-Robots-Tag:noindex
X-PUBLISHED-TTL:PT1H
BEGIN:VTIMEZONE
TZID:UTC
BEGIN:STANDARD
TZOFFSETFROM:+0000
TZOFFSETTO:+0000
TZNAME:UTC
DTSTART:20210101T000000
END:STANDARD
END:VTIMEZONE
BEGIN:VEVENT
DTSTART;TZID=UTC:20221030T190000
DTEND;TZID=UTC:20221030T190000
DTSTAMP:20260420T124036
CREATED:20221016T044402Z
LAST-MODIFIED:20221016T044402Z
UID:10000663-1667156400-1667156400@hadarim.reali.org.il
SUMMARY:יהדות ולהטב"ק
DESCRIPTION:
URL:https://hadarim.reali.org.il/event/%d7%99%d7%94%d7%93%d7%95%d7%aa-%d7%95%d7%9c%d7%94%d7%98%d7%91%d7%a7/
CATEGORIES:הרצאות
END:VEVENT
END:VCALENDAR