BEGIN:VCALENDAR
VERSION:2.0
PRODID:-//מרכז חדרים בריאלי, בית לתרבות יהודית ישראלית - ECPv6.15.20//NONSGML v1.0//EN
CALSCALE:GREGORIAN
METHOD:PUBLISH
X-ORIGINAL-URL:https://hadarim.reali.org.il
X-WR-CALDESC:Events for מרכז חדרים בריאלי, בית לתרבות יהודית ישראלית
REFRESH-INTERVAL;VALUE=DURATION:PT1H
X-Robots-Tag:noindex
X-PUBLISHED-TTL:PT1H
BEGIN:VTIMEZONE
TZID:UTC
BEGIN:STANDARD
TZOFFSETFROM:+0000
TZOFFSETTO:+0000
TZNAME:UTC
DTSTART:20210101T000000
END:STANDARD
END:VTIMEZONE
BEGIN:VEVENT
DTSTART;TZID=UTC:20220918T190000
DTEND;TZID=UTC:20220918T190000
DTSTAMP:20260420T152114
CREATED:20220829T080808Z
LAST-MODIFIED:20220908T073116Z
UID:10000636-1663527600-1663527600@hadarim.reali.org.il
SUMMARY:ספרות על ספרות עם נעה ידלין וניצן ויסמן
DESCRIPTION:
URL:https://hadarim.reali.org.il/event/%d7%a9%d7%99%d7%97-%d7%a1%d7%95%d7%a4%d7%a8%d7%99%d7%9d-%d7%a0%d7%99%d7%a6%d7%9f-%d7%95%d7%99%d7%a1%d7%9e%d7%9f-%d7%9e%d7%a9%d7%95%d7%97%d7%97-%d7%a2%d7%9d-%d7%a0%d7%a2%d7%94-%d7%99%d7%93%d7%9c/
CATEGORIES:הרצאות,מועדון קריאה
END:VEVENT
END:VCALENDAR