BEGIN:VCALENDAR
VERSION:2.0
PRODID:-//מרכז חדרים בריאלי, בית לתרבות יהודית ישראלית - ECPv6.15.20//NONSGML v1.0//EN
CALSCALE:GREGORIAN
METHOD:PUBLISH
X-ORIGINAL-URL:https://hadarim.reali.org.il
X-WR-CALDESC:Events for מרכז חדרים בריאלי, בית לתרבות יהודית ישראלית
REFRESH-INTERVAL;VALUE=DURATION:PT1H
X-Robots-Tag:noindex
X-PUBLISHED-TTL:PT1H
BEGIN:VTIMEZONE
TZID:UTC
BEGIN:STANDARD
TZOFFSETFROM:+0000
TZOFFSETTO:+0000
TZNAME:UTC
DTSTART:20210101T000000
END:STANDARD
END:VTIMEZONE
BEGIN:VEVENT
DTSTART;TZID=UTC:20220829T170000
DTEND;TZID=UTC:20220829T180000
DTSTAMP:20260420T152609
CREATED:20220724T092756Z
LAST-MODIFIED:20220724T092756Z
UID:10000733-1661792400-1661796000@hadarim.reali.org.il
SUMMARY:לב אמיץ
DESCRIPTION:מסע הרפתקאות של ילד להצלת הכפר שלו בעזרת אומץ לב והודיה על הקיים.
URL:https://hadarim.reali.org.il/event/%d7%9c%d7%91-%d7%90%d7%9e%d7%99%d7%a5/
CATEGORIES:הצגות קיץ לילדים
END:VEVENT
END:VCALENDAR