BEGIN:VCALENDAR
VERSION:2.0
PRODID:-//מרכז חדרים בריאלי, בית לתרבות יהודית ישראלית - ECPv6.15.20//NONSGML v1.0//EN
CALSCALE:GREGORIAN
METHOD:PUBLISH
X-WR-CALNAME:מרכז חדרים בריאלי, בית לתרבות יהודית ישראלית
X-ORIGINAL-URL:https://hadarim.reali.org.il
X-WR-CALDESC:Events for מרכז חדרים בריאלי, בית לתרבות יהודית ישראלית
REFRESH-INTERVAL;VALUE=DURATION:PT1H
X-Robots-Tag:noindex
X-PUBLISHED-TTL:PT1H
BEGIN:VTIMEZONE
TZID:UTC
BEGIN:STANDARD
TZOFFSETFROM:+0000
TZOFFSETTO:+0000
TZNAME:UTC
DTSTART:20210101T000000
END:STANDARD
END:VTIMEZONE
BEGIN:VEVENT
DTSTART;TZID=UTC:20220714T200000
DTEND;TZID=UTC:20220714T200000
DTSTAMP:20260420T174952
CREATED:20220628T085825Z
LAST-MODIFIED:20220628T085825Z
UID:10000620-1657828800-1657828800@hadarim.reali.org.il
SUMMARY:חיפה זוכרת את בולי
DESCRIPTION:להרשמה: info@hadarim.reali.org.il
URL:https://hadarim.reali.org.il/event/%d7%97%d7%99%d7%a4%d7%94-%d7%96%d7%95%d7%9b%d7%a8%d7%aa-%d7%90%d7%aa-%d7%91%d7%95%d7%9c%d7%99/
CATEGORIES:הרצאות
END:VEVENT
END:VCALENDAR