BEGIN:VCALENDAR
VERSION:2.0
PRODID:-//מרכז חדרים בריאלי, בית לתרבות יהודית ישראלית - ECPv6.15.20//NONSGML v1.0//EN
CALSCALE:GREGORIAN
METHOD:PUBLISH
X-ORIGINAL-URL:https://hadarim.reali.org.il
X-WR-CALDESC:Events for מרכז חדרים בריאלי, בית לתרבות יהודית ישראלית
REFRESH-INTERVAL;VALUE=DURATION:PT1H
X-Robots-Tag:noindex
X-PUBLISHED-TTL:PT1H
BEGIN:VTIMEZONE
TZID:UTC
BEGIN:STANDARD
TZOFFSETFROM:+0000
TZOFFSETTO:+0000
TZNAME:UTC
DTSTART:20210101T000000
END:STANDARD
END:VTIMEZONE
BEGIN:VEVENT
DTSTART;TZID=UTC:20220608T203000
DTEND;TZID=UTC:20220608T203000
DTSTAMP:20260420T213559
CREATED:20220524T074400Z
LAST-MODIFIED:20220524T074400Z
UID:10000713-1654720200-1654720200@hadarim.reali.org.il
SUMMARY:דה ג'אז רום - אלברט בגר ואנסבמל קוסמוס
DESCRIPTION:
URL:https://hadarim.reali.org.il/event/%d7%93%d7%94-%d7%92%d7%90%d7%96-%d7%a8%d7%95%d7%9d-%d7%90%d7%9c%d7%91%d7%a8%d7%98-%d7%91%d7%92%d7%a8-%d7%95%d7%90%d7%a0%d7%a1%d7%91%d7%9e%d7%9c-%d7%a7%d7%95%d7%a1%d7%9e%d7%95%d7%a1/
CATEGORIES:דה ג'אז רום
END:VEVENT
END:VCALENDAR