BEGIN:VCALENDAR
VERSION:2.0
PRODID:-//מרכז חדרים בריאלי, בית לתרבות יהודית ישראלית - ECPv6.15.20//NONSGML v1.0//EN
CALSCALE:GREGORIAN
METHOD:PUBLISH
X-WR-CALNAME:מרכז חדרים בריאלי, בית לתרבות יהודית ישראלית
X-ORIGINAL-URL:https://hadarim.reali.org.il
X-WR-CALDESC:Events for מרכז חדרים בריאלי, בית לתרבות יהודית ישראלית
REFRESH-INTERVAL;VALUE=DURATION:PT1H
X-Robots-Tag:noindex
X-PUBLISHED-TTL:PT1H
BEGIN:VTIMEZONE
TZID:UTC
BEGIN:STANDARD
TZOFFSETFROM:+0000
TZOFFSETTO:+0000
TZNAME:UTC
DTSTART:20210101T000000
END:STANDARD
END:VTIMEZONE
BEGIN:VEVENT
DTSTART;TZID=UTC:20220526T203000
DTEND;TZID=UTC:20220526T203000
DTSTAMP:20260421T000849
CREATED:20220522T072818Z
LAST-MODIFIED:20220522T072818Z
UID:10000711-1653597000-1653597000@hadarim.reali.org.il
SUMMARY:Big-Band Swing Party
DESCRIPTION:
URL:https://hadarim.reali.org.il/event/big-band-swing-party/
CATEGORIES:דה ג'אז רום
END:VEVENT
END:VCALENDAR