BEGIN:VCALENDAR
VERSION:2.0
PRODID:-//מרכז חדרים בריאלי, בית לתרבות יהודית ישראלית - ECPv6.15.20//NONSGML v1.0//EN
CALSCALE:GREGORIAN
METHOD:PUBLISH
X-WR-CALNAME:מרכז חדרים בריאלי, בית לתרבות יהודית ישראלית
X-ORIGINAL-URL:https://hadarim.reali.org.il
X-WR-CALDESC:Events for מרכז חדרים בריאלי, בית לתרבות יהודית ישראלית
REFRESH-INTERVAL;VALUE=DURATION:PT1H
X-Robots-Tag:noindex
X-PUBLISHED-TTL:PT1H
BEGIN:VTIMEZONE
TZID:Europe/Helsinki
BEGIN:DAYLIGHT
TZOFFSETFROM:+0200
TZOFFSETTO:+0300
TZNAME:EEST
DTSTART:20210328T010000
END:DAYLIGHT
BEGIN:STANDARD
TZOFFSETFROM:+0300
TZOFFSETTO:+0200
TZNAME:EET
DTSTART:20211031T010000
END:STANDARD
BEGIN:DAYLIGHT
TZOFFSETFROM:+0200
TZOFFSETTO:+0300
TZNAME:EEST
DTSTART:20220327T010000
END:DAYLIGHT
BEGIN:STANDARD
TZOFFSETFROM:+0300
TZOFFSETTO:+0200
TZNAME:EET
DTSTART:20221030T010000
END:STANDARD
BEGIN:DAYLIGHT
TZOFFSETFROM:+0200
TZOFFSETTO:+0300
TZNAME:EEST
DTSTART:20230326T010000
END:DAYLIGHT
BEGIN:STANDARD
TZOFFSETFROM:+0300
TZOFFSETTO:+0200
TZNAME:EET
DTSTART:20231029T010000
END:STANDARD
END:VTIMEZONE
BEGIN:VEVENT
DTSTART;TZID=Europe/Helsinki:20220523T200000
DTEND;TZID=Europe/Helsinki:20220523T200000
DTSTAMP:20260421T000851
CREATED:20220418T082649Z
LAST-MODIFIED:20220522T053742Z
UID:10000601-1653336000-1653336000@hadarim.reali.org.il
SUMMARY:בכח הזכות: הסכם השלום עם מצרים - פרופ' אמיר גולדשטיין
DESCRIPTION:במרכז חדרים\, רח' קריית ספר 25\, חיפה
URL:https://hadarim.reali.org.il/event/%d7%91%d7%9b%d7%97-%d7%94%d7%96%d7%9b%d7%95%d7%aa-%d7%9e%d7%94%d7%a4%d7%9a-2/
CATEGORIES:הרצאות
END:VEVENT
END:VCALENDAR