BEGIN:VCALENDAR
VERSION:2.0
PRODID:-//מרכז חדרים בריאלי, בית לתרבות יהודית ישראלית - ECPv6.15.20//NONSGML v1.0//EN
CALSCALE:GREGORIAN
METHOD:PUBLISH
X-ORIGINAL-URL:https://hadarim.reali.org.il
X-WR-CALDESC:Events for מרכז חדרים בריאלי, בית לתרבות יהודית ישראלית
REFRESH-INTERVAL;VALUE=DURATION:PT1H
X-Robots-Tag:noindex
X-PUBLISHED-TTL:PT1H
BEGIN:VTIMEZONE
TZID:Europe/Helsinki
BEGIN:DAYLIGHT
TZOFFSETFROM:+0200
TZOFFSETTO:+0300
TZNAME:EEST
DTSTART:20210328T010000
END:DAYLIGHT
BEGIN:STANDARD
TZOFFSETFROM:+0300
TZOFFSETTO:+0200
TZNAME:EET
DTSTART:20211031T010000
END:STANDARD
BEGIN:DAYLIGHT
TZOFFSETFROM:+0200
TZOFFSETTO:+0300
TZNAME:EEST
DTSTART:20220327T010000
END:DAYLIGHT
BEGIN:STANDARD
TZOFFSETFROM:+0300
TZOFFSETTO:+0200
TZNAME:EET
DTSTART:20221030T010000
END:STANDARD
BEGIN:DAYLIGHT
TZOFFSETFROM:+0200
TZOFFSETTO:+0300
TZNAME:EEST
DTSTART:20230326T010000
END:DAYLIGHT
BEGIN:STANDARD
TZOFFSETFROM:+0300
TZOFFSETTO:+0200
TZNAME:EET
DTSTART:20231029T010000
END:STANDARD
END:VTIMEZONE
BEGIN:VEVENT
DTSTART;TZID=Europe/Helsinki:20220501T200000
DTEND;TZID=Europe/Helsinki:20220501T213000
DTSTAMP:20260420T202420
CREATED:20220425T080738Z
LAST-MODIFIED:20220427T141224Z
UID:10000607-1651435200-1651440600@hadarim.reali.org.il
SUMMARY:קרבות גדוד 599 בסיני
DESCRIPTION:שיחה מרגשת עם תא"ל (מיל) עמי מורג\, על חוויותיו ממלחמת יום כיפור. הגדוד בפיקודו השתתף בקרבות הירואיים לאורך המלחמה\, שבסופה אף צלח את התעלה. מורג קיבל את אות המופת\, ובהמשך שימש בתפקידים בכירים בצה"ל\, כולל קצין שריון ראשי. הכניסה חופשית. \nבמרכז חדרים רח' קריית ספר 25\, חיפה \n  \n 
URL:https://hadarim.reali.org.il/event/%d7%a7%d7%a8%d7%91%d7%95%d7%aa-%d7%92%d7%93%d7%95%d7%93-599-%d7%91%d7%a1%d7%99%d7%a0%d7%99/
CATEGORIES:הרצאות
END:VEVENT
END:VCALENDAR