BEGIN:VCALENDAR
VERSION:2.0
PRODID:-//מרכז חדרים בריאלי, בית לתרבות יהודית ישראלית - ECPv6.15.20//NONSGML v1.0//EN
CALSCALE:GREGORIAN
METHOD:PUBLISH
X-ORIGINAL-URL:https://hadarim.reali.org.il
X-WR-CALDESC:Events for מרכז חדרים בריאלי, בית לתרבות יהודית ישראלית
REFRESH-INTERVAL;VALUE=DURATION:PT1H
X-Robots-Tag:noindex
X-PUBLISHED-TTL:PT1H
BEGIN:VTIMEZONE
TZID:Europe/Helsinki
BEGIN:DAYLIGHT
TZOFFSETFROM:+0200
TZOFFSETTO:+0300
TZNAME:EEST
DTSTART:20210328T010000
END:DAYLIGHT
BEGIN:STANDARD
TZOFFSETFROM:+0300
TZOFFSETTO:+0200
TZNAME:EET
DTSTART:20211031T010000
END:STANDARD
BEGIN:DAYLIGHT
TZOFFSETFROM:+0200
TZOFFSETTO:+0300
TZNAME:EEST
DTSTART:20220327T010000
END:DAYLIGHT
BEGIN:STANDARD
TZOFFSETFROM:+0300
TZOFFSETTO:+0200
TZNAME:EET
DTSTART:20221030T010000
END:STANDARD
BEGIN:DAYLIGHT
TZOFFSETFROM:+0200
TZOFFSETTO:+0300
TZNAME:EEST
DTSTART:20230326T010000
END:DAYLIGHT
BEGIN:STANDARD
TZOFFSETFROM:+0300
TZOFFSETTO:+0200
TZNAME:EET
DTSTART:20231029T010000
END:STANDARD
END:VTIMEZONE
BEGIN:VEVENT
DTSTART;TZID=Europe/Helsinki:20220425T080000
DTEND;TZID=Europe/Helsinki:20220425T170000
DTSTAMP:20260420T213553
CREATED:20220425T080545Z
LAST-MODIFIED:20220425T080545Z
UID:10000606-1650873600-1650906000@hadarim.reali.org.il
SUMMARY:שרלוטה סלומון מציירת את חייה
DESCRIPTION:שרלוטה סלומון היתה בת 26 \,ובהריון כאשר נרצחה באושוויץ. לא היינו מכירים את חוויות חייה לולא ציירה אותם בשנה שלפני הירצחה. נערה ואשה צעירה בצל שלטון האופל הנאצי.\nאת סיפור חייה\, דרך ציוריה מספרת נורית גרינברג. \nהרצאה בזום בקישור זה: https://us06web.zoom.us/j/89629625029
URL:https://hadarim.reali.org.il/event/%d7%a9%d7%a8%d7%9c%d7%95%d7%98%d7%94-%d7%a1%d7%9c%d7%95%d7%9e%d7%95%d7%9f-%d7%9e%d7%a6%d7%99%d7%99%d7%a8%d7%aa-%d7%90%d7%aa-%d7%97%d7%99%d7%99%d7%94/
CATEGORIES:הרצאות
END:VEVENT
END:VCALENDAR